Workbook

Sheet dochody 
G1: Załącznik Nr 1
G2: do objaśnień do projektu budżetu
G3: na 2026 r.
A5: PROGNOZA DOCHODÓW W BUDŻECIE POWIATU GOLENIOWSKIEGO NA 2026 R.
A9: Dział | B9: Rozdział | C9: paragraf | D9: Wyszczególnienie | E9: Budżet w 2025 r. | H9: Projekt budżetu wg potrzeb | I9: Projekt budżetu możliwy do zrealizowania
E10: wg uchwały budżetowej na 01.01 | F10: plan po zmianach 31.sierpnia | G10: Przewidywane wykonanie | H10: Plan na 2026 r. | I10: Plan na 2026 r.
E12: w złotych
A13: 1 | B13: 2 | C13: 3 | D13: 4 | E13: 5 | F13: 6 | G13: 7 | H13: 8 | I13: 9
A14: 600 | D14: Transport i łączność | E14: =E15+E24 -> 1554000 | F14: =F15+F24 -> 6906441.4 | G14: =G15+G24 -> 1596385.4 | H14: =H15+H24 -> 3688634.5 | I14: =I15+I24 -> 3758634.5
B15: 60014 | D15: Drogi publiczne powiatowe | E15: =E16+E17+E18+E21+E23 -> 1550000 | F15: =F16+F17+F18+F21+F23 -> 6902441.4 | G15: =G16+G17+G18+G21+G23 -> 1592386.4 | H15: =H16+H17+H18+H21+H23 -> 3684634.5 | I15: =I16+I17+I18+I21+I23 -> 3754634.5
B16: W | C16: 0620 | D16: Wpływy z opłat za zezwoloenia | E16: 1550000 | F16: ='Wykonanie 8 2025'!H2 -> 1550000 | G16: ='Wykonanie 8 2025'!J2 -> 1574129.2 | H16: 1550000 | I16: 1600000
B17: W | C17: 0750 | D17: Wpływy z najmu i dzierżawy składników majątkowych Skarbu Państwa, jednostek samorządu terytorialnego lub innych jednostek zaliczanych do sektora finansów publicznych oraz innych umów o podobnym charakterze | E17: 0 | F17: 13278 | G17: 18257.16 | H17: 0 | I17: 20000
B18: W | C18: 6290 | D18: Środki na dofinansowanie własnych inwestycji powiatu pozyskane z innych źródeł | E18: 0 | F18: ='Wykonanie 8 2025'!H9 -> 3528446.3 | G18: =SUM(G19:G19) -> 0 | H18: =SUM(H19:H20) -> 2134634.5 | I18: =SUM(I19:I20) -> 2134634.5
D19: PRZEBUDOWA ULICY BOLESŁAWA CHROBREGO W PRZYBIERNOWIE (DP 4117Z) - ETAP I | E19: 0 | F19: =F18 -> 3528446.3 | G19: 0 | H19: 0 | I19: 0
D20: Przebudowa drzogi powiatowej nr 4305Z w m. Kulice wraz z budową ciągu pieszo-rowerowego | E20: 0 | F20: 0 | G20: 0 | H20: 2134634.5 | I20: 2134634.5
B21: W | C21: 6300 | D21: Wpływ z tytułu pomocy finansowej udzielonej między jednostkami samorządu terytorialnego na dofinansowanie własnych zadań inwestycyjnych i zakupów inwestycyjnych | E21: 0 | F21: =F22 -> 1764223.1 | G21: =G22 -> 0 | H21: =H22 -> 0 | I21: =I22 -> 0
D22: PRZEBUDOWA ULICY BOLESŁAWA CHROBREGO W PRZYBIERNOWIE (DP 4117Z) - ETAP I | E22: 0 | F22: ='Wykonanie 8 2025'!H10 -> 1764223.1
B23: W | C23: 6300 | D23: ORGAN | E23: 0 | F23: ='Wykonanie 8 2025'!H11 -> 46494
B24: 60020 | D24: Drogi publiczne powiatowe | E24: =E25 -> 4000 | F24: =F25 -> 4000 | G24: =G25 -> 3999 | H24: =H25 -> 4000 | I24: =I25 -> 4000
B25: W | C25: 0490 | D25: Wpływy z innych lokalnych opłat pobieranych przez jednostki samorządu terytorialnego na podstawie odrębnych ustaw | E25: 4000 | F25: ='Wykonanie 8 2025'!H12 -> 4000 | G25: =3999 -> 3999 | H25: 4000 | I25: 4000
A26: 700 | D26: Gospodarka mieszkaniowa | E26: =E27 -> 1201128 | F26: =F27 -> 1266441 | G26: =G27 -> 885641 | H26: =H27 -> 995753 | I26: =I27 -> 755753
B27: 70005 | D27: Gospodarka gruntami i nieruchomościami | E27: =E28+E29+E30+E31+E32 -> 1201128 | F27: =F28+F29+F30+F31+F32 -> 1266441 | G27: =G28+G29+G30+G31+G32 -> 885641 | H27: =H28+H29+H30+H31+H32 -> 995753 | I27: =I28+I29+I30+I31+I32 -> 755753
B28: W | C28: 0470 | D28: Wpływy z opłat za trwały zarząd, użytkowanie i służebności | E28: 1450 | F28: ='Wykonanie 8 2025'!H13 -> 1450 | G28: =F28 -> 1450 | H28: 1450 | I28: 1450
B29: W | C29: 0750 | D29: Dochody z najmu i dzierżawy składników majątkowych Skarbu Państwa lub jednostek samorządu terytorialnego oraz innych umów o podobnym charakterze | E29: 250000 | F29: ='Wykonanie 8 2025'!H16 -> 250000 | G29: 118000 | H29: 85000 | I29: 85000
B30: W | C30: 0770 | D30: Wpłaty z tytułu odpłatnego nabycia prawa własności oraz prawa użytkowania wieczystego nieruchomości | E30: 370000 | F30: ='Wykonanie 8 2025'!H17 -> 370000 | G30: 121200 | H30: 360000 | I30: 120000
B31: Z | C31: 2110 | D31: Dotacje celowe otrzymane z budżetu państwa na zadania bieżące z zakresu administracji rządowej oraz inne zadania zlecone ustawami realizowane przez powiat | E31: 219678 | F31: ='Wykonanie 8 2025'!H22 -> 284991 | G31: =F31 -> 284991 | H31: 229303 | I31: =H31 -> 229303
B32: W | C32: 2360 | D32: Dochody jednostek samorządu terytorialnego związane z realizacją zadań z zakresu administracji rządowej oraz innych zadań zleconych ustawami | E32: 360000 | F32: ='Wykonanie 8 2025'!H23 -> 360000 | G32: =F32 -> 360000 | H32: 320000 | I32: 320000
A33: 710 | D33: Działalność usługowa | E33: =E34+E38+E41+E36 -> 1376500 | F33: =F34+F38+F41+F36 -> 1574810 | G33: =G34+G38+G41+G36 -> 0 | H33: =H34+H38+H41+H36 -> 1534845 | I33: =I34+I38+I41+I36 -> 1534845
B34: 71012 | D34: Zadania z zakresu geodezji i kartografii | E34: =E35 -> 557500 | F34: =F35 -> 557500 | G34: =G35 -> 0 | H34: =H35 -> 163000 | I34: =I35 -> 163000
B35: Z | C35: 2110 | D35: Dotacje celowe otrzymane z budżetu państwa na zadania bieżące z zakresu administracji rządowej oraz inne zadania zlecone ustawami realizowane przez powiat | E35: 557500 | F35: ='Wykonanie 8 2025'!H29 -> 557500 | G35: 0 | H35: 163000 | I35: =H35 -> 163000
B36: 71013 | E36: =E37 -> 0 | F36: =F37 -> 0 | G36: =G37 -> 0 | H36: =H37 -> 60000 | I36: =I37 -> 60000
B37: Z | C37: 2110 | D37: Dotacje celowe otrzymane z budżetu państwa na zadania bieżące z zakresu administracji rządowej oraz inne zadania zlecone ustawami realizowane przez powiat | E37: 0 | F37: 0 | G37: 0 | H37: 60000 | I37: =H37 -> 60000
B38: 71015 | D38: Nadzór budowlany | E38: =E39+E40 -> 819000 | F38: =F39+F40 -> 835000 | G38: =G39+G40 -> 0 | H38: =H39+H40 -> 899600 | I38: =I39+I40 -> 899600
B39: Z | C39: 2110 | D39: Dotacje celowe otrzymane z budżetu państwa na zadania bieżące z zakresu administracji rządowej oraz inne zadania zlecone ustawami realizowane przez powiat | E39: 819000 | F39: ='Wykonanie 8 2025'!H30 -> 835000 | G39: 0 | H39: 849600 | I39: =H39 -> 849600
B40: Z | C40: 6410 | E40: 0 | F40: 0 | G40: 0 | H40: 50000 | I40: =H40 -> 50000
B41: 71095 | D41: Pozostała działalność | E41: =E43+E44 -> 0 | F41: =F43+F44 -> 182310 | G41: =G43+G44 -> 0 | H41: =H43+H44 -> 412245 | I41: =I43+I44 -> 412245
D42: BUDOWA REGIONALNEJ INFRASTRUKTURY INFORMACJI PRZESTRZENNEJ WOJEWÓDZTWA ZACHODNIOPOMORSKIEGO | E42: =E43+E44 -> 0 | F42: =F43+F44 -> 182310 | G42: =G43+G44 -> 0 | H42: =H43+H44 -> 412245 | I42: =I43+I44 -> 412245
B43: W | C43: 2057 | D43: Dotacja celowa w ramach programów finansowanych z udziałem środków europejskich oraz środków, o których mowa w art. 5 ust. 3 pkt 5 lit. a i b ustawy, lub płatności w ramach budżetu środków europejskich, realizowanych przez jednostki samorządu terytorialnego | E43: 0 | F43: ='Wykonanie 8 2025'!H33 -> 47625 | G43: 0 | H43: 142875 | I43: 142875
B44: W | C44: 6257 | D44: Dotacja celowa w ramach programów finansowanych z udziałem środków europejskich oraz środków, o których mowa w art. 5 ust. 3 pkt 5 lit. a i b ustawy, lub płatności w ramach budżetu środków europejskich, realizowanych przez jednostki samorządu terytorialnego | E44: 0 | F44: ='Wykonanie 8 2025'!H34 -> 134685 | G44: 0 | H44: 269370 | I44: 269370
A45: 750 | D45: Administracja publiczna | E45: =E46+E48+E55 -> 114375 | F45: =F46+F48+F55 -> 348975 | G45: =G46+G48+G55 -> 244975 | H45: =H46+H48+H55 -> 433948.99 | I45: =I46+I48+I55 -> 432934.99
B46: 75011 | D46: Urzędy wojewódzkie | E46: =E47 -> 102900 | F46: =F47 -> 102900 | G46: =G47 -> 0 | H46: =H47 -> 105660 | I46: =I47 -> 105660
B47: Z | C47: 2110 | D47: Dotacje celowe otrzymane z budżetu państwa na zadania bieżące z zakresu administracji rządowej oraz inne zadania zlecone ustawami realizowane przez powiat | E47: 102900 | F47: ='Wykonanie 8 2025'!H35 -> 102900 | G47: 0 | H47: 105660 | I47: =H47 -> 105660
B48: 75020 | D48: Starostwa powiatowe | E48: =E49+E50+E52+E53 -> 11475 | F48: =F49+F50+F52+F53 -> 246075 | G48: =G49+G50+G52+G53 -> 244975 | H48: =H49+H50+H52+H53+H54 -> 328288.99 | I48: =I49+I50+I52+I53+I54 -> 327274.99
B49: W | C49: 0750 | D49: Dochody z najmu i dzierżawy składników majątkowych Skarbu Państwa lub jednostek samorządu terytorialnego oraz innych umów o podobnym charakterze | E49: 1475 | F49: ='Wykonanie 8 2025'!H40 -> 1475 | G49: 1475 | H49: 1475 | I49: 1475
B50: W | C50: 0970 | D50: Wpływy z różnych dochodów | E50: 10000 | F50: ='Wykonanie 8 2025'!H51 -> 10000 | G50: 8900 | H50: 8000 | I50: 10000
D51: Cyberbezpieczny Samorząd | E51: =E52+E53 -> 0 | F51: =F52+F53 -> 234600 | G51: =G52+G53 -> 234600 | H51: =H52+H53 -> 315799.99 | I51: =I52+I53 -> 315799.99
C52: 6257 | E52: 0 | F52: ='Wykonanie 8 2025'!H53 -> 197064 | G52: =F52 -> 197064 | H52: 265271.99 | I52: 265271.99
C53: 6259 | E53: 0 | F53: ='Wykonanie 8 2025'!H54 -> 37536 | G53: =F53 -> 37536 | H53: 50528 | I53: 50528
C54: 0690 | E54: 0 | F54: 0 | G54: 0 | H54: 3014 | I54: 0
B55: 75095 | D55: Pozostała działalność | E55: =I55 -> 0 | F55: =F56 -> 0 | G55: =G56 -> 0 | H55: =H56 -> 0 | I55: =I56 -> 0
B56: W | C56: 2057 | D56: Dotacje celowe w ramach programów finansowanych z udziałem środków europejskich oraz środków, o których mowa w art. 5 ust. 1 pkt 3 oraz ust. 3 pkt 5 i 6 ustawy, lub płatności w ramach budżetu środków europejskich | E56: 0 | F56: 0 | G56: 0 | H56: 0 | I56: =H56 -> 0
A57: 752 | D57: Obrona Narodowa | E57: =E58+E61 -> 44000 | F57: =F58+F61 -> 44000 | G57: =G58+G61 -> 0 | H57: =H58+H61 -> 49000 | I57: =I58+I61 -> 49000
B58: 75224 | D58: Kwalifikacja wojskowa | E58: =E59 -> 44000 | F58: =F59+F60 -> 44000 | G58: =G59+G60 -> 0 | H58: =H59+H60 -> 49000 | I58: =I59+I60 -> 49000
B59: Z | C59: 2110 | D59: Dotacje celowe otrzymane z budżetu państwa na zadania bieżące z zakresu administracji rządowej oraz inne zadania zlecone ustawami realizowane przez powiat | E59: 44000 | F59: ='Wykonanie 8 2025'!H55 -> 44000 | G59: 0 | H59: 49000 | I59: =H59 -> 49000
B60: P AR | C60: 2120 | D60: dotacje celowe otrzymane z budżetu państwa na zadania bieżące realizowane przez powiat na podstawie porozumień z organami administracji rządowej | E60: =I60 -> 0 | F60: ='[1]budżet 31.08.2022'!H61 -> 0 | G60: ='[1]budżet 31.08.2022'!J61 -> 0 | H60: 0 | I60: =H60 -> 0
B61: 75295 | D61: Pozostała działalność | E61: =I61 -> 0 | F61: =F62 -> 0 | G61: =G62 -> 0 | H61: =H62 -> 0 | I61: =I62 -> 0
B62: Z | C62: 2110 | D62: Dotacje celowe otrzymane z budżetu państwa na zadania bieżące z zakresu administracji rządowej oraz inne zadania zlecone ustawami realizowane przez powiat | E62: =I62 -> 0 | F62: 0 | G62: 0 | H62: 0 | I62: =H62 -> 0
A63: 754 | D63: Bezpieczeństwo publiczne i ochrona przeciwpożarowa | E63: =E64+E68 -> 9936000 | F63: =F64+F68 -> 10547649 | G63: =G64+G68 -> 603.07 | H63: =H64+H68 -> 10309000 | I63: =I64+I68 -> 10309000
B64: 75411 | D64: Komendy powiatowe Państwowej Straży Pożarnej | E64: =E65+E66+E67 -> 9936000 | F64: =F65+F66+F67 -> 10547649 | G64: =G65+G66+G67 -> 603.07 | H64: =H65+H66+H67 -> 10309000 | I64: =I65+I66+I67 -> 10309000
B65: W | C65: 0920 | D65: Pozostałe odsetki | E65: 0 | F65: 0 | G65: 0 | H65: 0 | I65: =H65 -> 0
B66: Z | C66: 2110 | D66: Dotacje celowe otrzymane z budżetu państwa na zadania bieżące z zakresu administracji rządowej oraz inne zadania zlecone ustawami realizowane przez powiat | E66: 9936000 | F66: ='Wykonanie 8 2025'!H56 -> 10547649 | G66: 0 | H66: 10309000 | I66: =H66 -> 10309000
B67: W | C67: 2360 | D67: Dochody samorządu terytorialnego związane z realizacją zadań z zakresu administracji rządowej oraz innych zadań zleconych ustawami | E67: 0 | F67: ='[1]budżet 31.08.2022'!H63 -> 0 | G67: ='Wykonanie 8 2025'!J57 -> 603.07 | H67: 0 | I67: 0
B68: 75495 | D68: Pozostała działalność | E68: =I68 -> 0 | F68: =F69 -> 0 | G68: =G69 -> 0 | H68: =H69 -> 0 | I68: =I69 -> 0
B69: W | C69: 2700 | D69: Środki na dofinansowanie własnych zadań bieżących powiatu pozyskane z innych źródeł | E69: 0 | F69: 0 | G69: 0 | H69: 0 | I69: =H69 -> 0
A70: 755 | D70: Wymiar sprawiedliwości | E70: =E71 -> 219744 | F70: =F71 -> 219744 | G70: =G71 -> 0 | H70: =H71 -> 227160 | I70: =I71 -> 227160
B71: 75515 | D71: Bezpłatna pomoc prawna | E71: =E72 -> 219744 | F71: =F72 -> 219744 | G71: =G72 -> 0 | H71: =H72 -> 227160 | I71: =I72 -> 227160
B72: Z | C72: 2110 | D72: Dotacje celowe otrzymane z budżetu państwa na zadania bieżące z zakresu administracji rządowej oraz inne zadania zlecone ustawami realizowane przez powiat | E72: 219744 | F72: ='Wykonanie 8 2025'!H59 -> 219744 | G72: 0 | H72: 227160 | I72: =H72 -> 227160
A73: 756 | D73: Dochody od osób prawnych, od osób fizycznych i od innych jednostek nieposiadających osobowości prawnej oraz wydatki związane z ich poborem | E73: =E74++E108 -> 97332023 | F73: =F74+F108 -> 97320022 | G73: =G74+G108 -> 97680362 | H73: =H74+H108 -> 101796731 | I73: =I74+I108 -> 103675731
B74: 75618 | D74: Wpływy z innych opłat stanowiących dochody jednostek samorządu terytorialnego na podstawie ustaw | E74: =E75+E78+E80+E84+E87+E90+E93+E95+E98+E100+E102+E104+E106 -> 3638500 | F74: =F75+F78+F80+F84+F87+F90+F93+F95+F98+F100+F102+F104+F106 -> 3626500 | G74: =G75+G78+G80+G84+G87+G90+G93+G95+G98+G100+G102+G104+G106 -> 3986839.8 | H74: =H75+H78+H80+H84+H87+H90+H93+H95+H98+H100+H102+H104+H106 -> 2093000 | I74: =I75+I78+I80+I84+I87+I90+I93+I95+I98+I100+I102+I104+I106 -> 3972000
B75: W | C75: 0420 | D75: Wpływy z opłaty komunikacyjnej | E75: 1400000 | F75: =F76 -> 1400000 | G75: =G76 -> 1480000 | H75: =H76 -> 1400000 | I75: =I76 -> 1480000
D76: WK | E76: 1400000 | F76: ='Wykonanie 8 2025'!H60 -> 1400000 | G76: 1480000 | H76: 1400000 | I76: 1480000
D77: REFERAT PROMOCJI I WSPÓŁPRACY | E77: =I77 -> 0 | F77: 0 | G77: 0 | H77: 0 | I77: 0
B78: W | C78: 0460 | D78: Wpływy z opłaty eksploatacyjnej | E78: 32500 | F78: =F79 -> 32500 | G78: =G79 -> 0 | H78: =H79 -> 0 | I78: =I79 -> 32000
D79: WOŚRiL | E79: 32500 | F79: ='Wykonanie 8 2025'!H61 -> 32500 | G79: 0 | H79: 0 | I79: 32000
B80: W | C80: 0490 | D80: Wpływy z innych lokalnych opłat pobieranych przez jednostki samorządu terytorialnego na podstawie odrębnych ustaw | E80: 1510000 | F80: =F81+F82+F83 -> 1510000 | G80: =G81+G82+G83 -> 1802500 | H80: =H81+H82+H83 -> 50000 | I80: =I81+I82+I83 -> 1800000
D81: WDP | E81: ='Wykonanie 8 2025'!H64 -> 0 | F81: ='Wykonanie 8 2025'!H64 -> 0 | G81: 0 | H81: 0 | I81: 0
D82: WK | E82: ='Wykonanie 8 2025'!H63 -> 60000 | F82: 60000 | G82: 48500 | H82: 50000 | I82: 50000
D83: WGiK | E83: ='Wykonanie 8 2025'!H62 -> 1450000 | F83: 1450000 | G83: 1754000 | H83: 0 | I83: 1750000
B84: W | C84: 0570 | D84: Grzywny, mandaty i inne kary pieniężne od osób fizycznych | E84: 200000 | F84: =F85 -> 200000 | G84: =G85 -> 250000 | H84: =H85 -> 200000 | I84: =I85 -> 200000
D85: WK | E85: 200000 | F85: ='Wykonanie 8 2025'!H65 -> 200000 | G85: 250000 | H85: 200000 | I85: 200000
D86: WDP | E86: 0 | F86: 0 | G86: 0 | H86: 0 | I86: 0
B87: W | C87: 0580 | D87: Grzywny, mandaty i inne kary pieniężne od osób prawnych | E87: 10000 | F87: =F88 -> 10000 | G87: =G88 -> 15000 | H87: =H88 -> 10000 | I87: =I88 -> 10000
D88: WK | E88: 10000 | F88: ='Wykonanie 8 2025'!H66 -> 10000 | G88: 15000 | H88: 10000 | I88: 10000
D89: WAB | E89: 0 | F89: 0 | G89: 0 | H89: 0 | I89: 0
B90: W | C90: 0590 | D90: Wpływy z opłat za koncesje i licencje | E90: 2500 | F90: =F91 -> 2500 | G90: =G91 -> 6839.81 | H90: =H91 -> 3000 | I90: =I91 -> 3000
D91: WK | E91: 2500 | F91: ='Wykonanie 8 2025'!H67 -> 2500 | G91: 6839.81 | H91: 3000 | I91: 3000
D92: WOŚ | E92: 0 | F92: 0 | G92: 0 | H92: 0 | I92: 0
B93: W | C93: 0610 | D93: Wpływy z opłat egzaminacyjnych oraz opłat za wydawanie świadectw, dyplomów, zaświadczeń i ich duplikatów | E93: 2500 | F93: =F94 -> 2500 | G93: =G94 -> 0 | H93: =H94 -> 0 | I93: =I94 -> 5000
D94: WK | E94: 2500 | F94: ='Wykonanie 8 2025'!H68 -> 2500 | G94: 0 | H94: 0 | I94: 5000
B95: W | C95: 0620 | D95: Wpływy z opłat za zezwolenia | E95: 19000 | F95: =F96+F97 -> 19000 | G95: =G96+G97 -> 35500 | H95: =H96+H97 -> 40000 | I95: =I96+I97 -> 40000
D96: WDP | E96: 10000 | F96: ='Wykonanie 8 2025'!H70 -> 0 | G96: ='Wykonanie 8 2025'!J70 -> 15500 | H96: 20000 | I96: 20000
D97: WK | E97: 9000 | F97: ='Wykonanie 8 2025'!H69 -> 19000 | G97: 20000 | H97: 20000 | I97: 20000
B98: W | C98: 0640 | D98: Wpływy z tytułu kosztów egzekucyjnych, opłat komorniczych i kosztów upomnień | E98: 0 | F98: 0 | G98: 0 | H98: 0 | I98: 0
D99: WF | E99: 0 | F99: 0 | G99: 0 | H99: 0 | I99: 0
B100: W | C100: 0650 | D100: Wpływy z opłat za wydanie prawa jazdy | E100: 400000 | F100: =F101 -> 400000 | G100: =G101 -> 340000 | H100: =H101 -> 340000 | I100: =I101 -> 340000
D101: WK | E101: 400000 | F101: 400000 | G101: 340000 | H101: 340000 | I101: 340000
B102: W | C102: 0690 | D102: Wpływy z różnych opłat | E102: 12000 | F102: 0 | G102: 0 | H102: 0 | I102: =I103 -> 12000
D103: REFERAT PROMOCJI I WSPÓŁPRACY | E103: 12000 | F103: 0 | G103: 0 | H103: 0 | I103: 12000
B104: W | C104: 0920 | D104: Pozostałe odsetki | E104: 0 | F104: 0 | G104: 0 | H104: 0 | I104: 0
D105: WF | E105: 0 | F105: 0 | G105: 0 | H105: 0 | I105: 0
...

Sheet wydatki własne
A1: PROGNOZA W BUDŻECIE POWIATU GOLENIOWSKIEGO NA FINANSOWANIE ZADAŃ WŁASNYCH BIEŻĄCYCH W 2026 R. | I1: Załącznik Nr 2
I2: do objaśnień do projektu budżetu
I3: na 2026 r.
A7: D+K631+A7:J594 | B7: Rozdział | C7: Wyszczególnienie | D7: Budżet w 2025r. | H7: Budżet na 2026 r.
D8: wg uchwały budżetowej na 01.01 | E8: plan po zmian.stan na dzień 31 sierpnia | F8: Przewidyw. wykonanie | G8: wydatki jednorazowe 2025 | H8: Platności 2025 r. planowane do zapłacenia w roku 2026 | I8: wg.zgłosz. Potrzeb po odjęciu wydatków z tytułu bonu indywidualnego | J8: wg polecenia Zarządu Powiatu
D10: w złotych
A11: 1 | B11: 2 | C11: 3 | D11: 4 | E11: 5 | F11: 6 | G11: 7 | H11: 8 | I11: 9 | J11: 10
A12: 020 | C12: Leśnictwo | D12: 90000 | E12: =E13+E17 -> 90000 | F12: =F13+F17 -> 40689.1 | G12: =G13+G17 -> 0 | H12: =H13+H17 -> 0 | I12: =I13+I17 -> 68207 | J12: =J13+J17 -> 66207
B13: 02001 | C13: Gospodarka leśna | D13: 40000 | E13: =E14 -> 33663.83 | F13: =F14 -> 0 | G13: =G14 -> 0 | H13: =H14 -> 0 | I13: =I14 -> 10000 | J13: =J14 -> 10000
C14: Wydział Ochrony Środowiska, Rolnictwa i Leśnictwa | D14: 40000 | E14: =E15+E16 -> 33663.83 | F14: =F15+F16 -> 0 | G14: =G15+G16 -> 0 | H14: =H15+H16 -> 0 | I14: =I15+I16 -> 10000 | J14: =J15+J16 -> 10000
C15: Wydatki związane z realizacją zadań statutowych | D15: 40000 | E15: 33663.83 | F15: 0 | G15: 0 | H15: 0 | I15: 10000 | J15: 10000
C16: Świadczenia na rzecz osób fizycznych | D16: 0 | E16: 0 | F16: 0 | G16: 0 | H16: 0 | I16: 0 | J16: 0
B17: 02002 | C17: Nadzór nad gospodarką leśną | D17: 50000 | E17: =E18 -> 56336.17 | F17: =F18 -> 40689.1 | G17: =G18 -> 0 | H17: =H18 -> 0 | I17: =I18 -> 58207 | J17: =J18 -> 56207
C18: Wydział Ochrony Środowiska, Rolnictwa i Leśnictwa | D18: 50000 | E18: =E19+E20 -> 56336.17 | F18: =F19+F20 -> 40689.1 | G18: =G19+G20 -> 0 | I18: =I19+I20 -> 58207 | J18: =J19+J20 -> 56207
C19: Wydatki związane z realizacją zadań statutowych | D19: 50000 | E19: 56336.17 | F19: 40689.1 | G19: 0 | H19: 0 | I19: 58207 | J19: 56207
C20: Wynagrodzenia i składki od nich naliczane | D20: 0 | E20: 0 | F20: 0 | G20: 0 | H20: 0 | I20: 0 | J20: 0
A21: 600 | C21: Transport i łączność | D21: 6416523.8 | E21: =E22+E43+E40 -> 6345075.4 | F21: =F22+F43 -> 5868419 | G21: =G22+G43 -> 29794 | H21: =H22+H43 -> 0 | I21: =I22+I43 -> 6746316.8 | J21: =J22+J43 -> 6494360
B22: 60014 | C22: Drogi publiczne powiatowe | D22: 6412523.8 | E22: =E23+E27+E31+E33 -> 6318935.4 | F22: =F23+F27+F31+F33 -> 5864419 | G22: =G23+G27+G31+G33 -> 29794 | H22: =H23+H27+H31+H33 -> 0 | I22: =I23+I27+I31+I33 -> 6742316.8 | J22: =J23+J27+J31+J33 -> 6490360
C23: Wydział Finansowy - Jednostka | D23: 10010 | E23: =E24+E25+E26 -> 10010 | F23: =F24+F25+F26 -> 0 | G23: =G24+G25+G26 -> 0 | H23: =H24+H25+H26 -> 0 | I23: =I24+I25+I26 -> 20000 | J23: =J24+J25+J26 -> 10010
C24: Wynagrodzenia i składki od nich naliczane | D24: 0 | E24: 0 | F24: 0 | G24: 0 | H24: 0 | I24: 0 | J24: 0
C25: Świadczenia na rzecz osób fizycznych | D25: 0 | E25: 0 | F25: 0 | G25: 0 | H25: 0 | I25: 0 | J25: 0
C26: Wydatki związane z realizacją zadań statutowych | D26: 10010 | E26: 10010 | F26: 0 | G26: 0 | H26: 0 | I26: 20000 | J26: 10010
C27: Wydział Administracji i Bezpieczeństwa | D27: 2402513.8 | E27: =E28+E29+E30 -> 2402513.8 | F27: =F28+F29+F30 -> 2431078 | G27: =G28+G29+G30 -> 29794 | H27: =H28+H29+H30 -> 0 | I27: =I28+I29+I30 -> 2528281.8 | J27: =J28+J29+J30 -> 2480350
C28: Wynagrodzenia i składki od nich naliczane | D28: 2115542 | E28: 2115542 | F28: 2172769 | G28: 29794 | H28: 0 | I28: 2182031 | J28: 2182031
C29: Świadczenia na rzecz osób fizycznych | D29: 73804 | E29: 73804 | F29: 73804 | G29: 0 | H29: 0 | I29: 85588 | J29: 85588
C30: Wydatki związane z realizacją zadań statutowych | D30: 213167.82 | E30: 213167.82 | F30: 184505 | G30: 0 | H30: 0 | I30: 260662.8 | J30: 212731
C31: Wydział Gospodarki Nieruchomościami | D31: 0 | E31: =E32 -> 0 | F31: =F32 -> 0 | G31: =G32 -> 0 | H31: =H32 -> 0 | I31: =I32 -> 0 | J31: =J32 -> 0
C32: Wydatki związane z realizacją zadań statutowych | D32: 0 | E32: 0 | F32: 0 | G32: 0 | H32: 0 | I32: 0 | J32: 0
C33: Wydział Dróg Powiatowych i Inwestycji | D33: 4000000 | E33: =E34+E38+E39 -> 3906411.6 | F33: =F34+F38+F39 -> 3433341 | G33: =G34+G38+G39 -> 0 | H33: =H34+H38+H39 -> 0 | I33: =I34+I38+I39 -> 4194035 | J33: =J34+J38+J39 -> 4000000
C34: Dotacje na zadania bieżące z tego: | D34: 110035 | E34: =E35+E36+E37 -> 110035 | F34: =F35+F36+F37 -> 110035 | G34: =G35+G36+G37 -> 0 | H34: =H35+H36+H37 -> 0 | I34: =I35+I36+I37 -> 110035 | J34: =J35+J36+J37 -> 110035
C35: Gmina Goleniów | D35: 84753 | E35: =D35 -> 84753 | F35: 84753 | G35: 0 | H35: 0 | I35: 84753 | J35: 84753
C36: Gmina Nowogard | D36: 25282 | E36: 25282 | F36: 25282 | G36: 0 | H36: 0 | I36: 25282 | J36: 25282
C37: Gmina Maszewo | D37: 0 | E37: 0 | F37: 0 | G37: 0 | H37: 0 | I37: 0 | J37: 0
C38: Wynagrodzenia i składki od nich naliczane | D38: 5000 | E38: 5000 | F38: 5000 | G38: 0 | H38: 0 | I38: 5000 | J38: 5000
C39: Wydatki związane z realizacją zadań statutowych | D39: 3884965 | E39: =4014554.38-E30-E26 -> 3791376.6 | F39: =675000+1038306+1605000 -> 3318306 | G39: 0 | H39: 0 | I39: =675000+1650000+1754000 -> 4079000 | J39: 3884965
B40: 60017 | C40: Drogi wewnętrzne | D40: 0 | E40: =E41 -> 22140 | F40: =F41 -> 0 | G40: =G41 -> 0 | H40: =H41 -> 0 | I40: =I41 -> 0 | J40: =J41 -> 0
C41: Wydział Dróg Powiatowych i Inwestycji | D41: 0 | E41: =E42 -> 22140 | F41: =F42 -> 0 | G41: =G42 -> 0 | H41: =H42 -> 0 | I41: =I42 -> 0 | J41: =J42 -> 0
C42: Wydatki związane z realizacją zadań statutowych | D42: 0 | E42: 22140 | F42: 0 | G42: 0 | H42: 0 | I42: 0 | J42: 0
B43: 60020 | C43: Funkcjonowanie przystanków komunikacyjnych | D43: 4000 | E43: =E44 -> 4000 | F43: =F44 -> 4000 | G43: =G44 -> 0 | H43: =H44 -> 0 | I43: =I44 -> 4000 | J43: =J44 -> 4000
C44: Wydział Dróg Powiatowych i Inwestycji | D44: 4000 | E44: =E45 -> 4000 | F44: =F45 -> 4000 | G44: =G45 -> 0 | H44: =H45 -> 0 | I44: =I45 -> 4000 | J44: =J45 -> 4000
C45: Wydatki związane z realizacją zadań statutowych | D45: 4000 | E45: 4000 | F45: 4000 | G45: 0 | H45: 0 | I45: 4000 | J45: 4000
A46: 700 | C46: Gospodarka mieszkaniowa | D46: 1629915.9 | E46: =E47+E60 -> 1616531.9 | F46: =F47+F60 -> 1437761.1 | G46: =G47+G60 -> 0 | H46: =H47+H60 -> 0 | I46: =I47+I60 -> 1949474.1 | J46: =J47+J60 -> 1553056
B47: 70005 | C47: Gospodarka gruntami i nieruchomościami | D47: 932546.59 | E47: =E52+E55+E48+E58 -> 943402.59 | F47: =F52+F55+F48 -> 859929.12 | G47: =G52+G55+G48 -> 0 | H47: =H52+H55+H48 -> 0 | I47: =I52+I55+I48 -> 1117630.7 | J47: =J52+J55+J48 -> 929817
C48: Wydział Administracji i Bezpieczeństwa | D48: 746985.59 | E48: =E49+E50+E51 -> 761912.12 | F48: =F49+F50+F51 -> 761912.12 | G48: =G49+G50+G51 -> 0 | H48: =H49+H50+H51 -> 0 | I48: =I49+I50+I51 -> 919619.7 | J48: =J49+J50+J51 -> 750806
C49: Wynagrodzenia i składki od nich naliczane | D49: 723206.32 | E49: 723206.32 | F49: =E49 -> 723206.32 | G49: 0 | H49: 0 | I49: 888425 | J49: 719611
C50: Świadczenia na rzecz osób fizycznych | D50: 1500 | E50: 1500 | F50: 1500 | G50: 0 | H50: 0 | I50: 2500 | J50: 2500
C51: Wydatki związane z realizacją zadań statutowych | D51: 22279.27 | E51: =761912.12-E49-E50 -> 37205.8 | F51: 37205.8 | G51: 0 | H51: 0 | I51: 28694.7 | J51: 28695
C52: Wydział Gospodarki Nieruchomościami | D52: 60211 | E52: =E53+E54 -> 98017 | F52: =F53+F54 -> 98017 | G52: =G53+G54 -> 0 | H52: =H53+H54 -> 0 | I52: =I53+I54 -> 68011 | J52: =J53+J54 -> 49011
C53: Wynagrodzenia i składki od nich naliczane | D53: 0 | E53: 300 | F53: =E53 -> 300 | G53: 0 | H53: 0 | I53: 0 | J53: 0
C54: Wydatki związane z realizacją zadań statutowych | D54: 60211 | E54: =101551-3534-E53 -> 97717 | F54: =E54 -> 97717 | G54: 0 | H54: 0 | I54: 68011 | J54: 49011
C55: Wydział Finansowy - Jednostka | D55: 125350 | E55: =E56+E57 -> 14423.47 | F55: =F56+F57 -> 0 | G55: 0 | H55: =H56+H57 -> 0 | I55: =I56+I57 -> 130000 | J55: =J56+J57 -> 130000
C56: Wynagrodzenia i składki od nich naliczane | D56: 0 | E56: 0 | I56: 0 | J56: 0
C57: Wydatki związane z realizacją zadań statutowych | D57: 125350 | E57: 14423.47 | I57: 130000 | J57: 130000
C58: Wydział Dróg Powiatowych i Inwestycji | D58: =D59 -> 0 | E58: =E59 -> 69050 | F58: =F59 -> 69050 | G58: =G59 -> 0 | H58: =H59 -> 0 | I58: =I59 -> 0 | J58: =J59 -> 0
C59: Wydatki związane z realizacją zadań statutowych | D59: 0 | E59: 69050 | F59: 69050 | G59: 0 | H59: 0 | I59: 0 | J59: 0
B60: 70095 | C60: Pozostała działalność | D60: 697369.28 | E60: =E61+E65+E68+E71 -> 673129.28 | F60: =F61+F65+F68+F71 -> 577832 | G60: =G61+G65+G68+G71 -> 0 | H60: =H61+H65+H68+H71 -> 0 | I60: =I61+I65+I68+I71 -> 831843.4 | J60: =J61+J65+J68+J71 -> 623239
C61: Wydział Administracji i Bezpieczeństwa | D61: 165761.28 | E61: =E62+E63+E64 -> 165761.28 | F61: =F62+F63+F64 -> 134522 | G61: =G62+G63+G64 -> 0 | H61: =H62+H63+H64 -> 0 | I61: =I62+I63+I64 -> 119633.4 | J61: =J62+J63+J64 -> 111029
C62: Wynagrodzenia i składki od nich naliczane | D62: 158159 | E62: 158159 | F62: 128354 | G62: 0 | H62: 0 | I62: 114721 | J62: 106117
C63: Świadczenia na rzecz osób fizycznych | D63: 2768 | E63: 2768 | F63: =E63 -> 2768 | G63: 0 | H63: 0 | I63: 2004 | J63: 2004
C64: Wydatki związane z realizacją zadań statutowych | D64: 4834.28 | E64: =170761.28-E62-E63-5000 -> 4834.28 | F64: 3400 | G64: 0 | H64: 0 | I64: 2908.4 | J64: 2908
C65: Wydział Finansowy - Jednostka | D65: 64058 | E65: =E66+E67 -> 64058 | F65: =F66+F67 -> 0 | G65: =G66+G67 -> 0 | H65: =H66+H67 -> 0 | I65: =I66+I67 -> 70000 | J65: =J66+J67 -> 70000
C66: Wynagrodzenia i składki od nich naliczane | D66: 0 | E66: 0 | J66: 0
C67: Wydatki związane z realizacją zadań statutowych | D67: 64058 | E67: 64058 | I67: 70000 | J67: 70000
C68: Wydział Gospodarki Nieruchomościami | D68: 467550 | E68: =E69+E70 -> 443310 | F68: =F69+F70 -> 443310 | G68: =G69+G70 -> 0 | H68: =H69+H70 -> 0 | I68: =I69+I70 -> 642210 | J68: =J69+J70 -> 442210
C69: Wynagrodzenia i składki od nich naliczane | D69: 0 | E69: 0 | F69: 0 | G69: 0 | H69: 0 | I69: 0 | J69: 0
C70: Wydatki związane z realizacją zadań statutowych | D70: 467550 | E70: 443310 | F70: =E70 -> 443310 | G70: 0 | H70: 0 | I70: 642210 | J70: 442210
C71: Wydział Dróg Powiatowych i Inwestycji | D71: 0 | E71: =E72+E73 -> 0 | F71: =F72+F73 -> 0 | G71: =G72+G73 -> 0 | H71: =H72+H73 -> 0 | I71: =I72+I73 -> 0 | J71: =J72+J73 -> 0
C72: Wynagrodzenia i składki od nich naliczane | D72: 0 | E72: 0
C73: Wydatki związane z realizacją zadań statutowych | D73: 0 | E73: 0
A74: 710 | C74: Działalność usługowa | D74: 1928595.8 | E74: =E75+E83 -> 1977220.8 | F74: =F75+F83 -> 2189339.9 | G74: =G75+G83 -> 11857.18 | H74: =H75+H83 -> 0 | I74: =I75+I83 -> 2725500.2 | J74: =J75+J83 -> 2425500
B75: 71012 | C75: Zadania z zakresu geodezji i kartografii | D75: 1922595.8 | E75: =E76+E80 -> 1907913.8 | F75: =F76+F80 -> 2167657.9 | G75: =G76+G80 -> 11857.18 | H75: =H76+H80 -> 0 | I75: =I76+I80 -> 2576625.2 | J75: =J76+J80 -> 2276625
C76: Wydział Administracji i Bezpieczeństwa | D76: 1696318.4 | E76: =E77+E78+E79 -> 1721318.4 | F76: =F77+F78+F79 -> 2167657.9 | G76: =G77+G78+G79 -> 11857.18 | H76: =H77+H78+H79 -> 0 | I76: =I77+I78+I79 -> 2376625.2 | J76: =J77+J78+J79 -> 2076625
C77: Wynagrodzenia i składki od nich naliczane | D77: 1579252 | E77: 1574947 | F77: 2027167.9 | G77: 11857.18 | H77: 0 | I77: =2112944 -> 2112944 | J77: 1945944
C78: Świadczenia na rzecz osób fizycznych | D78: 1500 | E78: 2500 | F78: 2500 | G78: 0 | H78: 0 | I78: 5500 | J78: 2500
C79: Wydatki związane z realizacją zadań statutowych | D79: 115566.4 | E79: =1721318.4-E77-E78 -> 143871.4 | F79: 137990 | G79: 0 | H79: 0 | I79: 258181.22 | J79: 128181
C80: Wydział Finansowy | D80: 226277.35 | E80: =E81+E82 -> 186595.35 | F80: =F81+F82 -> 0 | G80: =G81+G82 -> 0 | H80: =H81+H82 -> 0 | I80: =I81+I82 -> 200000 | J80: =J81+J82 -> 200000
C81: Wynagrodzenia i składki od nich naliczane | D81: 0 | E81: 186595.35 | J81: 0
C82: Wydatki związane z realizacją zadań statutowych | D82: 226277.35 | E82: 0 | I82: 200000 | J82: 200000
B83: 71095 | C83: Pozostała działalność | D83: =D84+D86 -> 6000 | E83: =E84+E86 -> 69307 | F83: =F84+F86 -> 21682 | G83: =G84+G86 -> 0 | H83: =H84+H86 -> 0 | I83: =I84+I86 -> 148875 | J83: =J84+J86 -> 148875
C84: Wydział Administracji i Bezpieczeństwa | D84: 6000 | E84: =E85 -> 21682 | F84: =F85 -> 21682 | G84: =G85 -> 0 | H84: =H85 -> 0 | I84: =I85 -> 6000 | J84: =J85 -> 6000
C85: Wydatki związane z realizacją zadań statutowych | D85: 6000 | E85: 21682 | F85: =E85 -> 21682 | G85: 0 | H85: 0 | I85: 6000 | J85: 6000
C86: BUDOWA REGIONALNEJ INFRASTRUKTURY INFORMACJI PRZESTRZENNEJ WOJEWÓDZTWA ZACHODNIOPOMORSKIEGO | D86: =D87 -> 0 | E86: =E87 -> 47625 | F86: =F87 -> 0 | G86: =G87 -> 0 | H86: =H87 -> 0 | I86: =I87 -> 142875 | J86: =J87 -> 142875
C87: Wydatki na programy finansowane z udziałem środków europejskich | D87: 0 | E87: 47625 | F87: 0 | G87: 0 | H87: 0 | I87: 142875 | J87: 142875
A88: 750 | C88: Administracja publiczna | D88: 14985552 | E88: =E89+E96+E104+E120+E127 -> 15371947 | F88: =F89+F96+F104+F120+F127 -> 14760280 | G88: =G89+G96+G104+G120+G127 -> 0 | H88: =H89+H96+H104+H120+H127 -> 0 | I88: =I89+I96+I104+I120+I127 -> 16087399 | J88: =J89+J96+J104+J120+J127 -> 16020453
B89: 75011 | C89: Urzędy wojewódzkie | D89: 1074197.1 | E89: =E90+E94 -> 1077963.4 | F89: =F90+F94 -> 1079017.9 | G89: =G90+G94 -> 0 | H89: =H90+H94 -> 0 | I89: =I90+I94 -> 1001488.4 | J89: =J90+J94 -> 1045753
C90: Wydział Administracji i Bezpieczeństwa | D90: 1074197.1 | E90: =E91+E92+E93 -> 1077963.4 | F90: =F91+F92+F93 -> 1079017.9 | G90: =G91+G92+G93 -> 0 | I90: =I91+I92+I93 -> 1001488.4 | J90: =J91+J92+J93 -> 895753
C91: Wynagrodzenia i składki od nich naliczane | D91: 1049612.2 | E91: =1077963.36-E92-E93 -> 1049612.2 | F91: =E91 -> 1049612.2 | G91: 0 | H91: 0 | I91: =973570 -> 973570 | J91: 867910
C92: Świadczenia na rzecz osób fizycznych | D92: 1500 | E92: 1500 | F92: 1500 | G92: 0 | H92: 0 | I92: 2500 | J92: 1500
C93: Wydatki związane z realizacją zadań statutowych | D93: 23084.98 | E93: =525+26326.2 -> 26851.2 | F93: 27905.77 | G93: 0 | H93: 0 | I93: 25418.4 | J93: 26343
C94: Wydział Finansowy | D94: 0 | E94: =E95 -> 0 | F94: =F95 -> 0 | G94: =G95 -> 0 | H94: =H95 -> 0 | I94: =I95 -> 0 | J94: =J95 -> 150000
C95: Wynagrodzenia i składki od nich naliczane | D95: 0 | E95: 0 | F95: 0 | G95: 0 | H95: 0 | I95: 0 | J95: 150000
B96: 75019 | C96: Rady powiatów | D96: 724066.62 | E96: =E97+E102 -> 724066.62 | F96: =F97+F102 -> 727285.81 | G96: =G97+G102 -> 0 | H96: =H97+H102 -> 0 | I96: =I97+I102 -> 719344.48 | J96: =J97+J102 -> 733358
C97: Wydział Administracji i Bezpieczeństwa | D97: 724066.62 | E97: =E98+E99+E100 -> 724066.62 | F97: =F98+F99+F100 -> 727285.81 | G97: =G98+G99+G100 -> 0 | H97: =H98+H99+H100 -> 0 | I97: =I98+I99+I100 -> 719344.48 | J97: =J98+J99+J100 -> 718358
C98: Wynagrodzenia i składki od nich naliczane | D98: 131105.48 | E98: =D98 -> 131105.48 | F98: 134824.67 | G98: 0 | H98: 0 | I98: 123730.6 | J98: 123730
C99: Świadczenia na rzecz osób fizycznych | D99: 545344 | E99: =D99 -> 545344 | F99: 544844 | G99: 0 | H99: 0 | I99: 546005.48 | J99: 546005
C100: Wydatki związane z realizacją zadań statutowych w tym: | D100: 47617.14 | E100: =D100 -> 47617.14 | F100: 47617.14 | G100: 0 | H100: 0 | I100: 49608.4 | J100: 48623
C101: Fundusz Przewodniczacego | D101: 0 | E101: =D101 -> 0 | J101: 0
C102: Wydział Finansowy | D102: 0 | E102: =E103 -> 0 | F102: =F103 -> 0 | G102: =G103 -> 0 | H102: =H103 -> 0 | I102: =I103 -> 0 | J102: =J103 -> 15000
C103: Wynagrodzenia i składki od nich naliczane | D103: 0 | E103: 0 | F103: 0 | G103: 0 | H103: 0 | I103: 0 | J103: 15000
B104: 75020 | C104: Starostwa powiatowe | D104: 12722789 | E104: =E105+E112+E115+E118 -> 13105417 | F104: =F105+F112+F115+F118 -> 12489476 | G104: =G105+G112+G115+G118 -> 0 | H104: =H105+H112+H115+H118 -> 0 | I104: =I105+I112+I115+I118 -> 13861266 | J104: =J105+J112+J115+J118 -> 13671042
...

Sheet wydatki zlecone 
A1: PROGNOZA W BUDŻECIE POWIATU GOLENIOWSKIEGO NA FINANSOWANIE ZADAŃ ZLECONYCH W 2026 R. | I1: Załącznik Nr 3
I2: do objaśnień do projektu budżetu
I3: na 2025 r.
A7: Dział | B7: Rozdział | C7: paragraf | D7: Wyszczególnienie | E7: Budżet w 2025 r. | H7: Projekt budżetu na 2026 r.
E8: wg uchwały budżetowej na 01.01 | F8: plan po zmianach | G8: Przewidyw. wykonanie | H8: wg.przyznanej dotacji przez Wojewodę Zachodniopomorskiego | I8: wg.zgłosz. potrzeb | J8: Wariant Zarządu Powiatu
E10: w złotych
A11: 1 | B11: 2 | C11: 3 | D11: 4 | E11: 5 | F11: 6 | G11: 7 | H11: 8 | I11: 9 | J11: 10
A12: 700 | D12: GOSPODARKA MIESZKANIOWA | E12: =E13 -> 150264 | F12: =F13 -> 284991 | G12: =G13 -> 774026.57 | H12: =H13 -> 229303 | I12: =I13 -> 229303 | J12: =H12 -> 229303
B13: 70005 | D13: Gospodarka gruntami i nieruchomościami | E13: =E14+E16 -> 150264 | F13: =F14+F16 -> 284991 | G13: =G14+G16 -> 774026.57 | H13: =H14+H16 -> 229303 | I13: =I14+I16 -> 229303 | J13: =H13 -> 229303
D14: Wydział Administracji i Bezpieczeństwa | E14: =E15 -> 128264 | F14: =F15 -> 162678 | G14: =G15 -> 774026.57 | H14: =H15 -> 172303 | I14: =I15 -> 172303 | J14: =H14 -> 172303
D15: Wynagrodzenia i składki od nich naliczane | E15: 128264 | F15: ='[3]Wykonanie 8 2025'!I286 -> 162678 | G15: =652111.9+112164.67+9750 -> 774026.57 | H15: =I15 -> 172303 | I15: =168814+3489 -> 172303 | J15: =H15 -> 172303
D16: Wydział Gospodarki Nieruchomościami | E16: =E18 -> 22000 | F16: =F17+F18 -> 122313 | G16: =G17+G18 -> 0 | H16: =H17+H18 -> 57000 | I16: =I17+I18 -> 57000 | J16: =H16 -> 57000
D17: Wynagrodzenia i składki od nich naliczane | E17: 0 | F17: 0 | G17: 0 | H17: =I17 -> 0 | I17: 0 | J17: =H17 -> 0
D18: Wydatki związane z realizacją zadań statutowych | E18: 22000 | F18: ='[3]Wykonanie 8 2025'!I292+'[3]Wykonanie 8 2025'!I298+'[3]Wykonanie 8 2025'!I300+'[3]Wykonanie 8 2025'!I301+'[3]Wykonanie 8 2025'!I304+'[3]Wykonanie 8 2025'!I306+'[3]Wykonanie 8 2025'!I313 -> 122313 | H18: =I18 -> 57000 | I18: 57000 | J18: =H18 -> 57000
D19: wydatki inwestycyjne | E19: 0 | F19: 0 | G19: 0 | H19: =I19 -> 0 | I19: 0 | J19: =H19 -> 0
A20: 710 | D20: DZIAŁALNOŚĆ USŁUGOWA | E20: =E21+E35+E41+E32 -> 1088000 | F20: =F21+F35+F41 -> 1392500 | G20: =G21+G35+G41 -> 1046472 | H20: =H21+H32+H35+H41 -> 1122600 | I20: =I21+I32+I35+I41 -> 1189351 | J20: =H20 -> 1122600
B21: 71012 | D21: Zadania z zakresu geodezji i kartografii | E21: =E22+E26+E29 -> 432000 | F21: =F22+F26+F29 -> 557500 | G21: =G22+G26+G29 -> 211472 | H21: =H22+H26+H29 -> 163000 | I21: =I22+I26+I29 -> 211473 | J21: =H21 -> 163000
D22: Wydział Administracji i Bezpieczeństwa | E22: =E23+E24+E25 -> 129000 | F22: =F23+F24+F25 -> 211472 | G22: =G23+G24+G25 -> 211472 | H22: =H23+H24+H25 -> 163000 | I22: =I23+I24+I25 -> 211473 | J22: =H22 -> 163000
D23: Wynagrodzenia i składki od nich naliczane | E23: 129000 | F23: ='[3]Wykonanie 8 2025'!I338 -> 211472 | G23: =F23 -> 211472 | H23: 163000 | I23: 211473 | J23: =H23 -> 163000
D24: Świadczenia na rzecz osób fizycznych | E24: 0 | F24: 0 | G24: =F24 -> 0 | H24: 0 | J24: =H24 -> 0
D25: Wydatki związane z realizacją zadań statutowych | E25: 0 | F25: 0 | G25: =F25 -> 0 | H25: 0 | J25: =H25 -> 0
D26: Wydział Geodezji , Kartografii i Kastratu | E26: =E27+E28 -> 303000 | F26: =F27+F28 -> 346028 | G26: =G27+G28 -> 0 | H26: =H27+H28 -> 0 | I26: =I27+I28 -> 0 | J26: =H26 -> 0
D27: Wydatki związane z realizacją zadań statutowych | E27: 303000 | F27: ='[3]Wykonanie 8 2025'!I346 -> 346028 | J27: =H27 -> 0
D28: wydatki inwestycyjne | E28: 0 | F28: 0 | G28: 0 | H28: 0 | I28: 0 | J28: =H28 -> 0
D29: Projekt geodezyjny | E29: =E30+E31 -> 0 | F29: =F30+F31 -> 0 | G29: =G30+G31 -> 0 | H29: =H30+H31 -> 0 | I29: =I30+I31 -> 0 | J29: =H29 -> 0
D30: Wydatki związane z realizacją zadań statutowych | E30: 0 | F30: 0 | G30: 0 | H30: 0 | I30: 0 | J30: =H30 -> 0
D31: wydatki inwestycyjne | E31: 0 | F31: 0 | G31: 0 | H31: 0 | I31: 0 | J31: =H31 -> 0
B32: 71013 | E32: =E33 -> 0 | F32: =F33 -> 0 | G32: =G33 -> 0 | H32: =H33 -> 60000 | I32: =I33 -> 0 | J32: =H32 -> 60000
D33: Wydział Geodezji , Kartografii i Kastratu | E33: =E34 -> 0 | F33: =F34 -> 0 | G33: =G34 -> 0 | H33: =H34 -> 60000 | I33: =I34 -> 0 | J33: =H33 -> 60000
D34: Wydatki związane z realizacją zadań statutowych | E34: 0 | F34: 0 | G34: 0 | H34: 60000 | I34: 0 | J34: =H34 -> 60000
B35: 71015 | D35: Nadzór budowlany | E35: =E36 -> 656000 | F35: =F36 -> 835000 | G35: =G36 -> 835000 | H35: =H36 -> 899600 | I35: =I36 -> 977878 | J35: =H35 -> 899600
D36: Powiatowy Inspektorat Nadzoru Budowlanego w Goleniowie | E36: =SUM(E37:E40) -> 656000 | F36: =SUM(F37:F40) -> 835000 | G36: =SUM(G37:G40) -> 835000 | H36: =H37+H38+H39+H40 -> 899600 | I36: =SUM(I37:I40) -> 977878 | J36: =H36 -> 899600
D37: Wynagrodzenia i składki od nich naliczane | E37: 554866 | F37: ='[3]Wykonanie 8 2025'!I354+'[3]Wykonanie 8 2025'!I355+'[3]Wykonanie 8 2025'!I356+'[3]Wykonanie 8 2025'!I357+'[3]Wykonanie 8 2025'!I358+'[3]Wykonanie 8 2025'!I359 -> 691845 | G37: =F37 -> 691845 | H37: =380000+220000+48000+109885+9300+5600 -> 772785 | I37: =386000+202000+48000+115000+13000+15000 -> 779000 | J37: =H37 -> 772785
D38: świadczenia na rzecz osób fizycznych | E38: 600 | F38: ='[3]Wykonanie 8 2025'!I353 -> 800 | G38: =F38 -> 800 | H38: 800 | I38: 800 | J38: =H38 -> 800
D39: Wydatki związane z realizacją zadań statutowych | E39: 100534 | F39: ='[3]Wykonanie 8 2025'!I360+'[3]Wykonanie 8 2025'!I361+'[3]Wykonanie 8 2025'!I362+'[3]Wykonanie 8 2025'!I363+'[3]Wykonanie 8 2025'!I364+'[3]Wykonanie 8 2025'!I365+'[3]Wykonanie 8 2025'!I366+'[3]Wykonanie 8 2025'!I367+'[3]Wykonanie 8 2025'!I368+'[3]Wykonanie 8 2025'!I369 -> 142355 | G39: =F39 -> 142355 | H39: =849600-H37-H38 -> 76015 | I39: =25000+20000+30000+800+97122+4000+2000+18156+500+500 -> 198078 | J39: =H39 -> 76015
D40: wydatki inwestycyjne | E40: 0 | F40: 0 | G40: 0 | H40: 50000 | I40: 0 | J40: =H40 -> 50000
B41: 71095 | D41: Pozostała działalnośc | E41: =E42 -> 0 | F41: =F42 -> 0 | H41: =H42 -> 0 | I41: =I42 -> 0 | J41: =H41 -> 0
D42: BUDOWA REGIONALNEJ INFRASTRUKTURY INFORMACJI PRZESTRZENNEJ WOJEWÓDZTWA ZACHODNIOPOMORSKIEGO | E42: =E43 -> 0 | F42: =F43 -> 0 | J42: =H42 -> 0
D43: Wydatki na programy finansowane z udziałem środków europejskich | E43: 0 | F43: 0 | G43: 0 | H43: 0 | I43: 0 | J43: =H43 -> 0
A44: 750 | D44: ADMINISTRACJA PUBLICZNA | E44: =E45 -> 79222 | F44: =F45 -> 102900 | G44: =G45 -> 102900 | H44: =H45 -> 105660 | I44: =I45 -> 102900 | J44: =H44 -> 105660
B45: 75011 | D45: Urzędy wojewódzkie | E45: =E46 -> 79222 | F45: =F46 -> 102900 | G45: =G46 -> 102900 | H45: =H46 -> 105660 | I45: =I46 -> 102900 | J45: =H45 -> 105660
D46: Wydział Administracji i Bezpieczeństwa | E46: =E47+E48 -> 79222 | F46: =F47+F48 -> 102900 | G46: =G47+G48 -> 102900 | H46: =H47+H48 -> 105660 | I46: =I47+I48 -> 102900 | J46: =H46 -> 105660
D47: Wynagrodzenia i składki od nich naliczane | E47: 79222 | F47: ='[3]Wykonanie 8 2025'!I379 -> 102900 | G47: =F47 -> 102900 | H47: 105660 | I47: 102900 | J47: =H47 -> 105660
D48: Wydatki związane z realizacją zadań statutowych | E48: 0 | F48: 0 | G48: 0 | H48: 0 | I48: 0 | J48: =H48 -> 0
A49: 752 | D49: Obrona Narodowa | E49: =E50+E54 -> 35000 | F49: =F50+F54 -> 44000 | G49: =G50+G54 -> 44000 | H49: =H50+H54 -> 49000 | I49: =I50+I54 -> 45000 | J49: =H49 -> 49000
B50: 75224 | D50: Kwalifikacja wojskowa | E50: =E51 -> 35000 | F50: =F51 -> 44000 | G50: =G51 -> 44000 | H50: =H51 -> 49000 | I50: =I51 -> 45000 | J50: =H50 -> 49000
D51: Wydział Kadr i Administracji | E51: =E52+E53 -> 35000 | F51: =F52+F53 -> 44000 | G51: =G52+G53 -> 44000 | H51: 49000 | I51: =I52+I53 -> 45000 | J51: =H51 -> 49000
D52: Wynagrodzenia i składki od nich naliczane | E52: 21180 | F52: ='[3]Wykonanie 8 2025'!I464+'[3]Wykonanie 8 2025'!I465+'[3]Wykonanie 8 2025'!I466+'[3]Wykonanie 8 2025'!I467 -> 29385.07 | G52: =F52 -> 29385.07 | H52: =9011+3450+18866 -> 31327 | I52: =7011+2450+17866 -> 27327 | J52: =H52 -> 31327
D53: Wydatki związane z realizacją zadań statutowych | E53: 13820 | F53: ='[3]Wykonanie 8 2025'!I468+'[3]Wykonanie 8 2025'!I469+'[3]Wykonanie 8 2025'!I470 -> 14614.93 | G53: =F53 -> 14614.93 | H53: =49000-H52 -> 17673 | I53: =45000-I52 -> 17673 | J53: =H53 -> 17673
B54: 75295 | D54: Pozostała działalność | E54: =E55 -> 0 | F54: =F55 -> 0 | G54: =G55 -> 0 | H54: =H55 -> 0 | I54: =I55 -> 0 | J54: =H54 -> 0
D55: Komenda Powiatowa Państwowej Straży Pożarnej w Goleniowie | E55: =E56+E57+E58 -> 0 | F55: =F56+F57+F58 -> 0 | G55: =G56+G57+G58 -> 0 | H55: =H56+H57+H58 -> 0 | I55: =I56+I57+I58 -> 0 | J55: =H55 -> 0
D56: Wynagrodzenia i składki od nich naliczane | E56: 0 | F56: 0 | G56: 0 | H56: 0 | I56: 0 | J56: =H56 -> 0
D57: świadczenia na rzecz osób fizycznych | E57: 0 | F57: 0 | G57: 0 | H57: 0 | I57: 0 | J57: =H57 -> 0
D58: Wydatki związane z realizacją zadań statutowych | E58: 0 | F58: 0 | G58: 0 | H58: 0 | I58: 0 | J58: =H58 -> 0
A59: 754 | D59: BEZPIECZEŃSTWO PUBLICZNE I OCHRONA PRZECIWPOŻAROWA | E59: =E60+E66 -> 8034000 | F59: =F60+F66 -> 10547649 | G59: =G60+G66 -> 11141588 | H59: =H60 -> 10309000 | I59: =I60+I66 -> 11631046 | J59: =H59 -> 10309000
B60: 75411 | D60: Komendy powiatowe Państwowej Straży Pożarnej | E60: =E61 -> 8034000 | F60: =F61 -> 10547649 | G60: =G61 -> 11141588 | H60: =H61 -> 10309000 | I60: =I61 -> 11631046 | J60: =H60 -> 10309000
D61: Komenda Powiatowa Państwowej Straży Pożarnej w Goleniowie | E61: =E62+E63+E64+E65 -> 8034000 | F61: =F62+F63+F64+F65 -> 10547649 | G61: =G62+G63+G64+G65 -> 11141588 | H61: 10309000 | I61: =I62+I63+I64+I65 -> 11631046 | J61: =H61 -> 10309000
D62: Wynagrodzenia i składki od nich naliczane | E62: 7286710 | F62: ='[3]Wykonanie 8 2025'!I475+'[3]Wykonanie 8 2025'!I476+'[3]Wykonanie 8 2025'!I478+'[3]Wykonanie 8 2025'!I481+'[3]Wykonanie 8 2025'!I483+'[3]Wykonanie 8 2025'!I485+'[3]Wykonanie 8 2025'!I487+'[3]Wykonanie 8 2025'!I489+'[3]Wykonanie 8 2025'!I490+'[3]Wykonanie 8 2025'!I492+'[3]Wykonanie 8 2025'!I495 -> 9848937 | G62: =26525.87+7478.13+7581524.68+248577.63+555633.69+17729.6+10105.78+600+5100+1842880.64 -> 10296156 | I62: =36369.9+84437.85+10000+7808970.42+211000+650750+25000+5000+1900000 -> 10731528 | J62: =H62 -> 0
D63: świadczenia na rzecz osób fizycznych | E63: 217290 | F63: ='[3]Wykonanie 8 2025'!I473 -> 180000 | G63: 261863 | H63: 0 | I63: 260000 | J63: =H63 -> 0
D64: Wydatki związane z realizacją zadań statutowych | E64: 530000 | F64: ='[3]Wykonanie 8 2025'!I496+'[3]Wykonanie 8 2025'!I499+'[3]Wykonanie 8 2025'!I500+'[3]Wykonanie 8 2025'!I502+'[3]Wykonanie 8 2025'!I505+'[3]Wykonanie 8 2025'!I506+'[3]Wykonanie 8 2025'!I509+'[3]Wykonanie 8 2025'!I511+'[3]Wykonanie 8 2025'!I513+'[3]Wykonanie 8 2025'!I514+'[3]Wykonanie 8 2025'!I517+'[3]Wykonanie 8 2025'!I519 -> 518712 | G64: =11141588.11-G62-G63 -> 583569.09 | I64: =11631045.5-I62-I63 -> 639517.33 | J64: =H64 -> 0
D65: wydatki inwestycyjne | E65: 0 | F65: 0 | G65: =F65 -> 0 | H65: 0 | I65: 0 | J65: =H65 -> 0
B66: 75495 | D66: Pozostała działalność | E66: =E67 -> 0 | F66: =F67 -> 0 | G66: =G67 -> 0 | H66: =H67 -> 0 | I66: =I67 -> 0 | J66: =H66 -> 0
D67: Wydział Administracji i Bezpieczeństwa | E67: =E68+E69 -> 0 | F67: =F68+F69 -> 0 | G67: =G68+G69 -> 0 | H67: =H68+H69 -> 0 | I67: =I68+I69 -> 0 | J67: =H67 -> 0
D68: Wynagrodzenia i składki od nich naliczane | E68: 0 | F68: 0 | G68: 0 | H68: 0 | I68: 0 | J68: =H68 -> 0
D69: Wydatki związane z realizacją zadań statutowych | E69: 0 | F69: 0 | G69: 0 | H69: 0 | I69: 0 | J69: =H69 -> 0
A70: 755 | E70: =E71 -> 198000 | F70: =F71 -> 219744 | G70: =G71 -> 219744 | H70: =H71 -> 227160 | I70: =I71 -> 227070 | J70: =H70 -> 227160
B71: 75515 | E71: =E72 -> 198000 | F71: =F72 -> 219744 | G71: =G72 -> 219744 | H71: =H72 -> 227160 | I71: =I72 -> 227070 | J71: =H71 -> 227160
D72: Wydział Administracji i Bezpieczeństwa | E72: =E73+E74+E75 -> 198000 | F72: =F73+F74+F75 -> 219744 | G72: =G73+G74+G75 -> 219744 | H72: 227160 | I72: =I73+I74+I75 -> 227070 | J72: =H72 -> 227160
D73: Wynagrodzenia i składki od nich naliczane | E73: 7178.4 | F73: ='[3]Wykonanie 8 2025'!I534+'[3]Wykonanie 8 2025'!I535+'[3]Wykonanie 8 2025'!I536+'[3]Wykonanie 8 2025'!I537+'[3]Wykonanie 8 2025'!I542 -> 7869.29 | G73: =F73 -> 7869.29 | H73: =6000+510+1015.8+147 -> 7672.8 | I73: 7672.8 | J73: =H73 -> 7672.8
D74: dotacje | E74: 124080 | F74: ='[3]Wykonanie 8 2025'!I533 -> 137706.2 | G74: =F74 -> 137706.2 | H74: 142353.6 | I74: 142353.6 | J74: =H74 -> 142353.6
D75: Wydatki związane z realizacją zadań statutowych | E75: 66741.6 | F75: ='[3]Wykonanie 8 2025'!I538+'[3]Wykonanie 8 2025'!I539+'[3]Wykonanie 8 2025'!I540+'[3]Wykonanie 8 2025'!I541 -> 74168.51 | G75: =F75 -> 74168.51 | H75: =H72-H73-H74 -> 77133.6 | I75: 77043.6 | J75: =H75 -> 77133.6
A76: 801 | D76: Oświata i wychowanie | E76: =E77 -> 0 | F76: =F77 -> 40081.27 | G76: =G77 -> 0 | H76: =H77 -> 0 | I76: =I77 -> 0 | J76: =H76 -> 0
B77: 80153 | D77: Zapewnienie uczniom prawa do bezpłatnego dostepu do podręczników, materiałów edukacyjnych lub materiałów ćwiczeniowych | E77: =E78+E80+E82 -> 0 | F77: =F78+F80+F82 -> 40081.27 | G77: =G78+G80+G82 -> 0 | H77: =H78+H80+H82 -> 0 | I77: =I78+I80+I82 -> 0 | J77: =H77 -> 0
D78: Wydział Oświaty, Kultury i Sportu | E78: 0 | F78: =F79 -> 9599.73 | G78: 0 | H78: 0 | I78: 0 | J78: =H78 -> 0
D79: Wydatki związane z realizacją zadań statutowych | E79: 0 | F79: ='[3]Wykonanie 8 2025'!I882+'[3]Wykonanie 8 2025'!I879 -> 9599.73 | G79: 0 | H79: 0 | I79: 0 | J79: =H79 -> 0
D80: ZSS | E80: =E81 -> 0 | F80: =F81 -> 21624.39 | H80: =H81 -> 0 | I80: =I81 -> 0 | J80: =H80 -> 0
D81: Wydatki związane z realizacją zadań statutowych | E81: =E82 -> 0 | F81: ='[3]Wykonanie 8 2025'!I884 -> 21624.39 | J81: =H81 -> 0
D82: SOSW | E82: =E83 -> 0 | F82: =F83 -> 8857.15 | H82: =H83 -> 0 | I82: =I83 -> 0 | J82: =H82 -> 0
D83: Wydatki związane z realizacją zadań statutowych | E83: 0 | F83: ='[3]Wykonanie 8 2025'!I883 -> 8857.15 | J83: =H83 -> 0
A84: 851 | D84: OCHRONA ZDROWIA | E84: =E85 -> 0 | F84: =F85 -> 960 | G84: =G85 -> 960 | H84: =H85 -> 0 | I84: =I85 -> 0 | J84: =H84 -> 0
B85: 85195 | D85: Pozostała działalność | E85: =E86 -> 0 | F85: =F86 -> 960 | G85: =G86 -> 960 | H85: =H86 -> 0 | I85: =I86 -> 0 | J85: =H85 -> 0
D86: PCPR W GOLENIOWIE | E86: =E87 -> 0 | F86: =F87 -> 960 | G86: =G87 -> 960 | H86: =H87 -> 0 | I86: =I87 -> 0 | J86: =H86 -> 0
D87: Wydatki związane z realizacją zadań statutowych | E87: 0 | F87: ='[3]Wykonanie 8 2025'!I951 -> 960 | G87: 960 | H87: 0 | I87: 0 | J87: =H87 -> 0
A88: 852 | D88: Pomoc społeczna | E88: =E89+E93 -> 0 | F88: =F89+F93 -> 34732.8 | G88: =G89+G93 -> 34732.8 | H88: =H89+H93 -> 0 | I88: =I89+I93 -> 29333 | J88: =H88 -> 0
B89: 85205 | D89: Zadania w zakresie przeciwdziałania przemocy w rodzinie | E89: =E90 -> 0 | F89: =F90 -> 30600 | G89: =G90 -> 30600 | H89: =H90 -> 0 | I89: =I90 -> 25200 | J89: =H89 -> 0
D90: Powiatowe Centrum Pomocy Rodzinie w Goleniowie | E90: =E91+E92 -> 0 | F90: =F91+F92 -> 30600 | G90: =G91+G92 -> 30600 | H90: =H91+H92 -> 0 | I90: =I91+I92 -> 25200 | J90: =H90 -> 0
D91: Wynagrodzenia i składki od nich naliczane | E91: 0 | F91: 0 | G91: 0 | H91: 0 | I91: 0 | J91: =H91 -> 0
D92: Wydatki związane z realizacją zadań statutowych | E92: 0 | F92: ='[3]Wykonanie 8 2025'!I983 -> 30600 | G92: 30600 | H92: 0 | I92: 25200 | J92: =H92 -> 0
B93: 85295 | D93: Pozostała działalność | E93: =E94 -> 0 | F93: =F94 -> 4132.8 | G93: =G94 -> 4132.8 | H93: =H94 -> 0 | I93: =I94 -> 4133 | J93: =H93 -> 0
D94: Powiatowe Centrum Pomocy Rodzinie w Goleniowie | E94: =E95 -> 0 | F94: =F95 -> 4132.8 | G94: =G95 -> 4132.8 | H94: =H95 -> 0 | I94: =I95 -> 4133 | J94: =H94 -> 0
D95: Wydatki związane z realizacją zadań statutowych | E95: 0 | F95: ='[3]Wykonanie 8 2025'!I1034 -> 4132.8 | G95: 4132.8 | H95: 0 | I95: 4133 | J95: =H95 -> 0
A96: 853 | D96: POZOSTAŁE ZADANIA W ZAKRESIE POLITYKI SPOŁECZNEJ | E96: =E97+E102 -> 420000 | F96: =F97+F102 -> 657732 | G96: =G97+G102 -> 625124.29 | H96: =H97+H102 -> 597000 | I96: =I97+I102 -> 597000 | J96: =H96 -> 597000
B97: 85321 | D97: Zespoły do spraw orzekania o niepełnosprawności | E97: =E98 -> 420000 | F97: =F98 -> 618000 | G97: =G98 -> 625124.29 | H97: =H98 -> 597000 | I97: =I98 -> 597000 | J97: =H97 -> 597000
D98: Powiatowy Zespół d/s Orzekania o Niepełnosprawności | E98: =E99+E100+E101 -> 420000 | F98: =F99+F100+F101 -> 618000 | G98: =G99+G100+G101 -> 625124.29 | H98: =I98 -> 597000 | I98: =I99+I100+I101 -> 597000 | J98: =H98 -> 597000
D99: Wynagrodzenia i składki od nich naliczane | E99: 314025 | F99: ='[3]Wykonanie 8 2025'!I1054+'[3]Wykonanie 8 2025'!I1055+'[3]Wykonanie 8 2025'!I1057+'[3]Wykonanie 8 2025'!I1059+'[3]Wykonanie 8 2025'!I1061 -> 376448.58 | G99: =253869.69+20350.72+4422.31+6401.33+73000 -> 358044.05 | H99: =I99 -> 372448.58 | I99: =234320.5+20417.7+42552.46+6157.92+69000 -> 372448.58 | J99: =H99 -> 372448.58
D100: świadczenia na rzecz osób fizycznych | E100: 300 | F100: ='[3]Wykonanie 8 2025'!I1052 -> 300 | G100: 300 | H100: =I100 -> 300 | I100: 300 | J100: =H100 -> 300
D101: Wydatki związane z realizacją zadań statutowych | E101: 105675 | F101: ='[3]Wykonanie 8 2025'!I1063+'[3]Wykonanie 8 2025'!I1065+'[3]Wykonanie 8 2025'!I1067+'[3]Wykonanie 8 2025'!I1069+'[3]Wykonanie 8 2025'!I1072+'[3]Wykonanie 8 2025'!I1074 -> 241251.42 | G101: =625124.29-G99-G100 -> 266780.24 | H101: =I101 -> 224251.42 | I101: =2000+10000+156000+46000+3000+7251.42 -> 224251.42 | J101: =H101 -> 224251.42
B102: 85395 | D102: Pozostała działalność | E102: =E103 -> 0 | F102: =F103 -> 39732 | G102: 0 | H102: =I102 -> 0 | I102: =I103 -> 0 | J102: =H102 -> 0
D103: Wydział Administracji i Bezpieczeństwa | E103: =E104+E106+E105 -> 0 | F103: =F104+F106+F105 -> 39732 | G103: =G104+G106+G105 -> 0 | H103: =H104+H106+H105 -> 0 | I103: =I104+I106+I105 -> 0 | J103: =H103 -> 0
D104: Wynagrodzenia i składki od nich naliczane | E104: 0 | F104: 0 | H104: 0 | J104: =H104 -> 0
...

Sheet wydatki pow
A1: PROGNOZA W BUDŻECIE POWIATU GOLENIOWSKIEGO NA FINANSOWANIE ZADAŃ POWIERZONYCH PRZEZ ADMINISTRACJĘ RZĄDOWĄ I POWIERZONYCH PRZEZ JEDNOSTKI SAMORZĄDU TERYTORIALNEGO W 2026 ROK | I1: Załącznik Nr 4
I2: do objaśnień do projektu budżetu
I3: na 2026 r.
A7: Dział | B7: Rozdział | C7: paragraf | D7: Wyszczególnienie | E7: Budżet w 2025 r. | H7: Projekt budżetu na 2026 r.
E8: wg uchwały budżetowej na 01.01 | F8: plan po zmianach | G8: Przewidyw. wykonanie | H8: wg.przyznanej dotacji | I8: wg.zgłosz. potrzeb | J8: Wariant Zarządu Powiatu
E10: w złotych
A11: 1 | B11: 2 | C11: 3 | D11: 4 | E11: 5 | F11: 6 | G11: 7 | H11: 8 | I11: 9 | J11: 10
A12: 801 | D12: Oświata i Wychowanie | E12: =E13 -> 308484 | F12: =F13 -> 308484 | G12: =G13 -> 308484 | H12: =H13 -> 0 | I12: =I13 -> 342760 | J12: =J13 -> 342760
B13: 80195 | D13: Pozostała działalność | E13: =E14+E17 -> 308484 | F13: =F14+F17 -> 308484 | G13: =G14+G17 -> 308484 | H13: =H14+H17 -> 0 | I13: =I14+I17 -> 342760 | J13: =J14+J17 -> 342760
D14: PORADNIA PSYCHOLOGICZNO-PEDAGOGICZNA W GOLENIOWIE | E14: =E15+E16 -> 308484 | F14: =F15+F16 -> 308484 | G14: =G15+G16 -> 308484 | H14: =H15+H16 -> 0 | I14: =I15+I16 -> 342760 | J14: =J15+J16 -> 342760
D15: Wynagrodzenia i składki od nich naliczane | E15: 191743 | F15: =E15 -> 191743 | G15: =F15 -> 191743 | I15: =23000+22761+2739+84660 -> 133160 | J15: =I15 -> 133160
D16: Wydatki związane z realizacją zadań statutowych | E16: 116741 | F16: =E16 -> 116741 | G16: =F16 -> 116741 | I16: 209600 | J16: =I16 -> 209600
D17: Realizcja programu pn. „Poznaj Polskę”, | E17: =E18 -> 0 | F17: =F18 -> 0 | G17: =G18 -> 0 | H17: =H18 -> 0 | I17: =I18 -> 0 | J17: =J18 -> 0
D18: Wydatki związane z realizacją zadań statutowych | E18: 0 | G18: 0 | H18: 0 | I18: 0 | J18: 0
A19: 853 | D19: Pozostałe zadania w zakresie polityki społecznej | E19: =E20 -> 2678 | F19: =F20 -> 2678 | G19: =G20 -> 2678 | H19: =H20 -> 0 | I19: =I20 -> 7821.34 | J19: =J20 -> 7821.34
B20: 85311 | D20: Rehabilitacja zawodowa i społeczna osób niepełnosprawnych | E20: =E21 -> 2678 | F20: =F21 -> 2678 | G20: =G21 -> 2678 | H20: =H21 -> 0 | I20: =I21 -> 7821.34 | J20: =J21 -> 7821.34
D21: Wydział Finansowy - Jednostka | E21: =E22 -> 2678 | F21: =F22 -> 2678 | G21: =G22 -> 2678 | H21: =H22 -> 0 | I21: =I22 -> 7821.34 | J21: =J22 -> 7821.34
D22: dotacje | E22: 2678 | F22: =E22 -> 2678 | G22: =F22 -> 2678 | I22: 7821.34 | J22: =I22 -> 7821.34
A23: OGÓŁEM | E23: =E12+E19 -> 311162 | F23: =F12+F19 -> 311162 | G23: =G12+G19 -> 311162 | H23: =H12+H19 -> 0 | I23: =I12+I19 -> 350581.34 | J23: =J12+J19 -> 350581.34

Sheet wyd. inw
F1: Załącznik Nr 5
F2: do objaśnień do projektu budżetu
F3: na 2025 r.
A6: PROGNOZA W BUDŻECIE POWIATU GOLENIOWSKIEGO NA FINANSOWANIE WYBRANYCH PRZEZ ZARZĄD POWIATU ZADAŃ INWESTYCYJNYCH WŁASNYCH W 2026 R.
A8: Dział | B8: Rozdział | C8: zadania inwestycyjne na 2026 r. | D8: Jednostka organizacyjna | E8: Wariant wynikający ze złożonych wniosków na 2026 r. | F8: Wariant możliwy do realizacji na 2026 r.
E11: w złotych | F11: w złotych
A12: 1 | B12: 2 | C12: 3 | E12: 5 | F12: 6
A13: 600 | B13: 60014 | C13: Przebudowa odcinka drogi powiatowej nr 4128Z Śmięć-Stepniczka wraz z aktualizacją dokumentacji technicznej | D13: WDI | F13: 520000
A14: 600 | B14: 60014 | C14: Opracowanie dokumentacji technicznej na przebudowę odcinka drogi powiatowej w miejscowości Kartlewo | D14: WDI | F14: 40000
A15: 600 | B15: 60014 | C15: Opracowanie dokumentacji technicznej na przebudowę odcinka drogi powiatowej w miejscowości Kartlewo | D15: WDI | F15: 40000
A16: 600 | B16: 60014 | C16: "Budowa ciągu pieszo rowerowego w ciągu drogi powiatowej nr 4305Z w miejscowości Kulice" | D16: WDI | F16: 4269269
A17: 600 | B17: 60014 | C17: Budowa chodnika wzdłuż drogi powiatowej nr 4162Z Maszewo | D17: WDI | F17: 200000
A18: 750 | B18: 75020 | C18: Cyberbezpieczny Samorząd | D18: Starostwo Powiatowe w Goleniowie | E18: 315799.99 | F18: 315799.99
A19: 710 | B19: 71095 | C19: BUDOWA REGIONALNEJ INFRASTRUKTURY INFORMACJI PRZESTRZENNEJ WOJEWÓDZTWA ZACHODNIOPOMORSKIEGO | D19: WA | F19: 269370
A20: 758 | B20: 75818 | C20: Rezerwa inwestycyjna | D20: WF | F20: 3000000
A21: 801 | B21: 80102 | C21: Opracowanie dokumentacji technicznej w Zespole Szkół Specjalnych w Goleniowie na wykonanie termomodernizacji zgodnie z audytem | D21: WDI | F21: 150000
A22: 801 | B22: 80117 | C22: Opracowanie dokumentacji technicznej w Zespole Szkół nr 1 w Nowogardzie na wykonanie termomodernizacji zgodnie z audytem | D22: WDI | F22: 150000
A23: 801 | B23: 80120 | C23: Opracowanie dokumentacji technicznej w Zespole Szkół nr 1 w Nowogardzie na wykonanie termomodernizacji zgodnie z audytem | D23: WDI | F23: 150000
A24: 801 | B24: 80195 | C24: Nowe kwalifikacje - kompleksowy program wsparcia uczniów i nauczycieli szkół kształcących zawodowo na terenie IIT Powiatu Goleniowskiego | D24: ZS nr 1 w Nowogardzie | E24: 456350.54 | F24: 456350.54
A25: 851 | B25: 85111 | C25: Objęcie udziałów | F25: 666000
A26: 851 | B26: 85111 | C26: Zakup sprzętu | F26: 62411
A27: 852 | B27: 85202 | C27: Poprawa infrastruktury szpitalnej wraz z pierwszym wyposażeniem pod potrzeby nowo tworzonego Domu Pomocy Społecznej | F27: 116850
A28: 854 | B28: 85403 | C28: Opracowanie dokumentacji technicznej w SOSW w Nowogardzie na wykonanie termomodernizacji zgodnie z audytem | F28: 150000
A29: 926 | B29: 92601 | C29: Sportowa Polska | D29: Starostwo Powiatowe w Goleniowie | E29: 3810824.7 | F29: 5716237.1
A30: 926 | B30: 92601 | C30: Rozwój Infrastruktury Sportowej | D30: Starostwo Powiatowe w Goleniowie | E30: 595564 | F30: 595564
F31: =SUM(F13:F30) -> 16867852

Sheet Wykonanie 8 2025
A1: Dział | B1: Rozdział | C1: Paragraf | D1: Zadanie | E1: Dochód / Wydatek | F1: Kod dysponenta | G1: Rodzaj zadania | H1: Plan dochodu | I1: Plan wydatku | J1: Wykonanie dochodu | K1: Wykonanie wydatku | L1: Opis dysponenta
A2: 600 | B2: 60014 | C2: 062000 | D2: N | E2: D | F2: 76 | G2: W | H2: 1550000 | I2: 0 | J2: 1574129.2 | K2: 0 | L2: WYDZIAŁ DRÓG POWIATOWYCH I INWESTYCJI
A3: 600 | B3: 60014 | C3: 064000 | D3: T | E3: D | F3: 02 | G3: W | H3: 0 | I3: 0 | J3: 224 | K3: 0 | L3: WYDZ.FINANSOWY-JEDNOSTKA
A4: 600 | B4: 60014 | C4: 075000 | D4: T | E4: D | F4: 05 | G4: W | H4: 0 | I4: 0 | J4: 1659.72 | K4: 0 | L4: WYDZIAŁ GOSPODARKI NIERUCHOMOŚCIAMI
A5: 600 | B5: 60014 | C5: 075000 | D5: T | E5: D | F5: 03 | G5: W | H5: 0 | I5: 0 | J5: 11618.04 | K5: 0 | L5: WYDZIAŁ ADMINISTRACJI I BEZPIECZENSTWA
A6: 600 | B6: 60014 | C6: 087000 | D6: N | E6: D | F6: 76 | G6: W | H6: 0 | I6: 0 | J6: 4500.6 | K6: 0 | L6: WYDZIAŁ DRÓG POWIATOWYCH I INWESTYCJI
A7: 600 | B7: 60014 | C7: 092000 | D7: T | E7: D | F7: 02 | G7: W | H7: 0 | I7: 0 | J7: 1837.07 | K7: 0 | L7: WYDZ.FINANSOWY-JEDNOSTKA
A8: 600 | B8: 60014 | C8: 095000 | D8: N | E8: D | F8: 76 | G8: W | H8: 0 | I8: 0 | J8: 0 | K8: 0 | L8: WYDZIAŁ DRÓG POWIATOWYCH I INWESTYCJI
A9: 600 | B9: 60014 | C9: 629000 | D9: N | E9: D | F9: 86 | G9: W | H9: 3528446.3 | I9: 0 | J9: 852471.55 | K9: 0 | L9: PRZEBUDOWA ULICY BOLESŁAWA CHROBREGO W PRZYBIERNOWIE (DP 4117Z) - ETAP I
A10: 600 | B10: 60014 | C10: 630000 | D10: N | E10: D | F10: 86 | G10: W | H10: 1764223.1 | I10: 0 | J10: 0 | K10: 0 | L10: PRZEBUDOWA ULICY BOLESŁAWA CHROBREGO W PRZYBIERNOWIE (DP 4117Z) - ETAP I
A11: 600 | B11: 60014 | C11: 630000 | D11: N | E11: D | F11: 01 | G11: W | H11: 46494 | I11: 0 | J11: 0 | K11: 0 | L11: ORGAN
A12: 600 | B12: 60020 | C12: 049000 | D12: N | E12: D | F12: 76 | G12: W | H12: 4000 | I12: 0 | J12: 3355.3 | K12: 0 | L12: WYDZIAŁ DRÓG POWIATOWYCH I INWESTYCJI
A13: 700 | B13: 70005 | C13: 047000 | D13: N | E13: D | F13: 05 | G13: W | H13: 1450 | I13: 0 | J13: 1673.19 | K13: 0 | L13: WYDZIAŁ GOSPODARKI NIERUCHOMOŚCIAMI
... A1370: 926 | B1370: 92695 | C1370: 430000 | D1370: N | E1370: W | F1370: 40 | G1370: W | H1370: 0 | I1370: 16000 | J1370: 0 | K1370: 15763.6 | L1370: WYDZIAŁ OŚWIATY,KULTURY I SPORTU
H1371: 1.8546931e+08 | I1371: 1.9558985e+08 | J1371: 1.3323048e+08 | K1371: 1.1435917e+08
I1372: =I521+I522+I523+I524+I525+I526+I527+I528+I529+I530 -> 208095.71
H1373: =SUBTOTAL(9,H2:H1372) -> 818169 | I1373: =SUBTOTAL(9,I2:I1372) -> 1154499.5 | J1373: =SUBTOTAL(9,J2:J1372) -> 0 | K1373: =SUBTOTAL(9,K2:K1372) -> 271582.64
J1381: =15696737-16828299 -> -1131562
