Workbook

Sheet dochody 
G1: Załącznik Nr 1
G2: do objaśnień do projektu budżetu
G3: na 2026 r.
A5: PROGNOZA DOCHODÓW W BUDŻECIE POWIATU GOLENIOWSKIEGO NA 2026 R.
A9: Dział | B9: Rozdział | C9: paragraf | D9: Wyszczególnienie | E9: Budżet w 2025 r. | H9: Projekt budżetu wg potrzeb | I9: Projekt budżetu możliwy do zrealizowania
E10: wg uchwały budżetowej na 01.01 | F10: plan po zmianach 31.sierpnia | G10: Przewidywane wykonanie | H10: Plan na 2026 r. | I10: Plan na 2026 r.
E12: w złotych
A13: 1 | B13: 2 | C13: 3 | D13: 4 | E13: 5 | F13: 6 | G13: 7 | H13: 8 | I13: 9
A14: 600 | D14: Transport i łączność | E14: =E15+E24 -> 1554000 | F14: =F15+F24 -> 6906441.4 | G14: =G15+G24 -> 1596385.4 | H14: =H15+H24 -> 3688634.5 | I14: =I15+I24 -> 3758634.5
B15: 60014 | D15: Drogi publiczne powiatowe | E15: =E16+E17+E18+E21+E23 -> 1550000 | F15: =F16+F17+F18+F21+F23 -> 6902441.4 | G15: =G16+G17+G18+G21+G23 -> 1592386.4 | H15: =H16+H17+H18+H21+H23 -> 3684634.5 | I15: =I16+I17+I18+I21+I23 -> 3754634.5
B16: W | C16: 0620 | D16: Wpływy z opłat za zezwoloenia | E16: 1550000 | F16: ='Wykonanie 8 2025'!H2 -> 1550000 | G16: ='Wykonanie 8 2025'!J2 -> 1574129.2 | H16: 1550000 | I16: 1600000
B17: W | C17: 0750 | D17: Wpływy z najmu i dzierżawy składników majątkowych Skarbu Państwa, jednostek samorządu terytorialnego lub innych jednostek zaliczanych do sektora finansów publicznych oraz innych umów o podobnym charakterze | E17: 0 | F17: 13278 | G17: 18257.16 | H17: 0 | I17: 20000
B18: W | C18: 6290 | D18: Środki na dofinansowanie własnych inwestycji powiatu pozyskane z innych źródeł | E18: 0 | F18: ='Wykonanie 8 2025'!H9 -> 3528446.3 | G18: =SUM(G19:G19) -> 0 | H18: =SUM(H19:H20) -> 2134634.5 | I18: =SUM(I19:I20) -> 2134634.5
D19: PRZEBUDOWA ULICY BOLESŁAWA CHROBREGO W PRZYBIERNOWIE (DP 4117Z) - ETAP I | E19: 0 | F19: =F18 -> 3528446.3 | G19: 0 | H19: 0 | I19: 0
D20: Przebudowa drzogi powiatowej nr 4305Z w m. Kulice wraz z budową ciągu pieszo-rowerowego | E20: 0 | F20: 0 | G20: 0 | H20: 2134634.5 | I20: 2134634.5
B21: W | C21: 6300 | D21: Wpływ z tytułu pomocy finansowej udzielonej między jednostkami samorządu terytorialnego na dofinansowanie własnych zadań inwestycyjnych i zakupów inwestycyjnych | E21: 0 | F21: =F22 -> 1764223.1 | G21: =G22 -> 0 | H21: =H22 -> 0 | I21: =I22 -> 0
D22: PRZEBUDOWA ULICY BOLESŁAWA CHROBREGO W PRZYBIERNOWIE (DP 4117Z) - ETAP I | E22: 0 | F22: ='Wykonanie 8 2025'!H10 -> 1764223.1
B23: W | C23: 6300 | D23: ORGAN | E23: 0 | F23: ='Wykonanie 8 2025'!H11 -> 46494
B24: 60020 | D24: Drogi publiczne powiatowe | E24: =E25 -> 4000 | F24: =F25 -> 4000 | G24: =G25 -> 3999 | H24: =H25 -> 4000 | I24: =I25 -> 4000
B25: W | C25: 0490 | D25: Wpływy z innych lokalnych opłat pobieranych przez jednostki samorządu terytorialnego na podstawie odrębnych ustaw | E25: 4000 | F25: ='Wykonanie 8 2025'!H12 -> 4000 | G25: =3999 -> 3999 | H25: 4000 | I25: 4000
A26: 700 | D26: Gospodarka mieszkaniowa | E26: =E27 -> 1201128 | F26: =F27 -> 1266441 | G26: =G27 -> 885641 | H26: =H27 -> 995753 | I26: =I27 -> 755753
B27: 70005 | D27: Gospodarka gruntami i nieruchomościami | E27: =E28+E29+E30+E31+E32 -> 1201128 | F27: =F28+F29+F30+F31+F32 -> 1266441 | G27: =G28+G29+G30+G31+G32 -> 885641 | H27: =H28+H29+H30+H31+H32 -> 995753 | I27: =I28+I29+I30+I31+I32 -> 755753
B28: W | C28: 0470 | D28: Wpływy z opłat za trwały zarząd, użytkowanie i służebności | E28: 1450 | F28: ='Wykonanie 8 2025'!H13 -> 1450 | G28: =F28 -> 1450 | H28: 1450 | I28: 1450
B29: W | C29: 0750 | D29: Dochody z najmu i dzierżawy składników majątkowych Skarbu Państwa lub jednostek samorządu terytorialnego oraz innych umów o podobnym charakterze | E29: 250000 | F29: ='Wykonanie 8 2025'!H16 -> 250000 | G29: 118000 | H29: 85000 | I29: 85000
B30: W | C30: 0770 | D30: Wpłaty z tytułu odpłatnego nabycia prawa własności oraz prawa użytkowania wieczystego nieruchomości | E30: 370000 | F30: ='Wykonanie 8 2025'!H17 -> 370000 | G30: 121200 | H30: 360000 | I30: 120000
B31: Z | C31: 2110 | D31: Dotacje celowe otrzymane z budżetu państwa na zadania bieżące z zakresu administracji rządowej oraz inne zadania zlecone ustawami realizowane przez powiat | E31: 219678 | F31: ='Wykonanie 8 2025'!H22 -> 284991 | G31: =F31 -> 284991 | H31: 229303 | I31: =H31 -> 229303
B32: W | C32: 2360 | D32: Dochody jednostek samorządu terytorialnego związane z realizacją zadań z zakresu administracji rządowej oraz innych zadań zleconych ustawami | E32: 360000 | F32: ='Wykonanie 8 2025'!H23 -> 360000 | G32: =F32 -> 360000 | H32: 320000 | I32: 320000
A33: 710 | D33: Działalność usługowa | E33: =E34+E38+E41+E36 -> 1376500 | F33: =F34+F38+F41+F36 -> 1574810 | G33: =G34+G38+G41+G36 -> 0 | H33: =H34+H38+H41+H36 -> 1534845 | I33: =I34+I38+I41+I36 -> 1534845
B34: 71012 | D34: Zadania z zakresu geodezji i kartografii | E34: =E35 -> 557500 | F34: =F35 -> 557500 | G34: =G35 -> 0 | H34: =H35 -> 163000 | I34: =I35 -> 163000
B35: Z | C35: 2110 | D35: Dotacje celowe otrzymane z budżetu państwa na zadania bieżące z zakresu administracji rządowej oraz inne zadania zlecone ustawami realizowane przez powiat | E35: 557500 | F35: ='Wykonanie 8 2025'!H29 -> 557500 | G35: 0 | H35: 163000 | I35: =H35 -> 163000
B36: 71013 | E36: =E37 -> 0 | F36: =F37 -> 0 | G36: =G37 -> 0 | H36: =H37 -> 60000 | I36: =I37 -> 60000
B37: Z | C37: 2110 | D37: Dotacje celowe otrzymane z budżetu państwa na zadania bieżące z zakresu administracji rządowej oraz inne zadania zlecone ustawami realizowane przez powiat | E37: 0 | F37: 0 | G37: 0 | H37: 60000 | I37: =H37 -> 60000
B38: 71015 | D38: Nadzór budowlany | E38: =E39+E40 -> 819000 | F38: =F39+F40 -> 835000 | G38: =G39+G40 -> 0 | H38: =H39+H40 -> 899600 | I38: =I39+I40 -> 899600
B39: Z | C39: 2110 | D39: Dotacje celowe otrzymane z budżetu państwa na zadania bieżące z zakresu administracji rządowej oraz inne zadania zlecone ustawami realizowane przez powiat | E39: 819000 | F39: ='Wykonanie 8 2025'!H30 -> 835000 | G39: 0 | H39: 849600 | I39: =H39 -> 849600
B40: Z | C40: 6410 | E40: 0 | F40: 0 | G40: 0 | H40: 50000 | I40: =H40 -> 50000
B41: 71095 | D41: Pozostała działalność | E41: =E43+E44 -> 0 | F41: =F43+F44 -> 182310 | G41: =G43+G44 -> 0 | H41: =H43+H44 -> 412245 | I41: =I43+I44 -> 412245
D42: BUDOWA REGIONALNEJ INFRASTRUKTURY INFORMACJI PRZESTRZENNEJ WOJEWÓDZTWA ZACHODNIOPOMORSKIEGO | E42: =E43+E44 -> 0 | F42: =F43+F44 -> 182310 | G42: =G43+G44 -> 0 | H42: =H43+H44 -> 412245 | I42: =I43+I44 -> 412245
B43: W | C43: 2057 | D43: Dotacja celowa w ramach programów finansowanych z udziałem środków europejskich oraz środków, o których mowa w art. 5 ust. 3 pkt 5 lit. a i b ustawy, lub płatności w ramach budżetu środków europejskich, realizowanych przez jednostki samorządu terytorialnego | E43: 0 | F43: ='Wykonanie 8 2025'!H33 -> 47625 | G43: 0 | H43: 142875 | I43: 142875
B44: W | C44: 6257 | D44: Dotacja celowa w ramach programów finansowanych z udziałem środków europejskich oraz środków, o których mowa w art. 5 ust. 3 pkt 5 lit. a i b ustawy, lub płatności w ramach budżetu środków europejskich, realizowanych przez jednostki samorządu terytorialnego | E44: 0 | F44: ='Wykonanie 8 2025'!H34 -> 134685 | G44: 0 | H44: 269370 | I44: 269370
A45: 750 | D45: Administracja publiczna | E45: =E46+E48+E55 -> 114375 | F45: =F46+F48+F55 -> 348975 | G45: =G46+G48+G55 -> 244975 | H45: =H46+H48+H55 -> 433948.99 | I45: =I46+I48+I55 -> 432934.99
...

Sheet wydatki własne
A1: PROGNOZA W BUDŻECIE POWIATU GOLENIOWSKIEGO NA FINANSOWANIE ZADAŃ WŁASNYCH BIEŻĄCYCH W 2026 R. | I1: Załącznik Nr 2
I2: do objaśnień do projektu budżetu
I3: na 2026 r.
A7: D+K631+A7:J594 | B7: Rozdział | C7: Wyszczególnienie | D7: Budżet w 2025r. | H7: Budżet na 2026 r.
D8: wg uchwały budżetowej na 01.01 | E8: plan po zmian.stan na dzień 31 sierpnia | F8: Przewidyw. wykonanie | G8: wydatki jednorazowe 2025 | H8: Platności 2025 r. planowane do zapłacenia w roku 2026 | I8: wg.zgłosz. Potrzeb po odjęciu wydatków z tytułu bonu indywidualnego | J8: wg polecenia Zarządu Powiatu
D10: w złotych
A11: 1 | B11: 2 | C11: 3 | D11: 4 | E11: 5 | F11: 6 | G11: 7 | H11: 8 | I11: 9 | J11: 10
A12: 020 | C12: Leśnictwo | D12: 90000 | E12: =E13+E17 -> 90000 | F12: =F13+F17 -> 40689.1 | G12: =G13+G17 -> 0 | H12: =H13+H17 -> 0 | I12: =I13+I17 -> 68207 | J12: =J13+J17 -> 66207
B13: 02001 | C13: Gospodarka leśna | D13: 40000 | E13: =E14 -> 33663.83 | F13: =F14 -> 0 | G13: =G14 -> 0 | H13: =H14 -> 0 | I13: =I14 -> 10000 | J13: =J14 -> 10000
C14: Wydział Ochrony Środowiska, Rolnictwa i Leśnictwa | D14: 40000 | E14: =E15+E16 -> 33663.83 | F14: =F15+F16 -> 0 | G14: =G15+G16 -> 0 | H14: =H15+H16 -> 0 | I14: =I15+I16 -> 10000 | J14: =J15+J16 -> 10000
C15: Wydatki związane z realizacją zadań statutowych | D15: 40000 | E15: 33663.83 | F15: 0 | G15: 0 | H15: 0 | I15: 10000 | J15: 10000
C16: Świadczenia na rzecz osób fizycznych | D16: 0 | E16: 0 | F16: 0 | G16: 0 | H16: 0 | I16: 0 | J16: 0
B17: 02002 | C17: Nadzór nad gospodarką leśną | D17: 50000 | E17: =E18 -> 56336.17 | F17: =F18 -> 40689.1 | G17: =G18 -> 0 | H17: =H18 -> 0 | I17: =I18 -> 58207 | J17: =J18 -> 56207
C18: Wydział Ochrony Środowiska, Rolnictwa i Leśnictwa | D18: 50000 | E18: =E19+E20 -> 56336.17 | F18: =F19+F20 -> 40689.1 | G18: =G19+G20 -> 0 | I18: =I19+I20 -> 58207 | J18: =J19+J20 -> 56207
C19: Wydatki związane z realizacją zadań statutowych | D19: 50000 | E19: 56336.17 | F19: 40689.1 | G19: 0 | H19: 0 | I19: 58207 | J19: 56207
C20: Wynagrodzenia i składki od nich naliczane | D20: 0 | E20: 0 | F20: 0 | G20: 0 | H20: 0 | I20: 0 | J20: 0
A21: 600 | C21: Transport i łączność | D21: 6416523.8 | E21: =E22+E43+E40 -> 6345075.4 | F21: =F22+F43 -> 5868419 | G21: =G22+G43 -> 29794 | H21: =H22+H43 -> 0 | I21: =I22+I43 -> 6746316.8 | J21: =J22+J43 -> 6494360
B22: 60014 | C22: Drogi publiczne powiatowe | D22: 6412523.8 | E22: =E23+E27+E31+E33 -> 6318935.4 | F22: =F23+F27+F31+F33 -> 5864419 | G22: =G23+G27+G31+G33 -> 29794 | H22: =H23+H27+H31+H33 -> 0 | I22: =I23+I27+I31+I33 -> 6742316.8 | J22: =J23+J27+J31+J33 -> 6490360
C23: Wydział Finansowy - Jednostka | D23: 10010 | E23: =E24+E25+E26 -> 10010 | F23: =F24+F25+F26 -> 0 | G23: =G24+G25+G26 -> 0 | H23: =H24+H25+H26 -> 0 | I23: =I24+I25+I26 -> 20000 | J23: =J24+J25+J26 -> 10010
C24: Wynagrodzenia i składki od nich naliczane | D24: 0 | E24: 0 | F24: 0 | G24: 0 | H24: 0 | I24: 0 | J24: 0
C25: Świadczenia na rzecz osób fizycznych | D25: 0 | E25: 0 | F25: 0 | G25: 0 | H25: 0 | I25: 0 | J25: 0
C26: Wydatki związane z realizacją zadań statutowych | D26: 10010 | E26: 10010 | F26: 0 | G26: 0 | H26: 0 | I26: 20000 | J26: 10010
C27: Wydział Administracji i Bezpieczeństwa | D27: 2402513.8 | E27: =E28+E29+E30 -> 2402513.8 | F27: =F28+F29+F30 -> 2431078 | G27: =G28+G29+G30 -> 29794 | H27: =H28+H29+H30 -> 0 | I27: =I28+I29+I30 -> 2528281.8 | J27: =J28+J29+J30 -> 2480350
C28: Wynagrodzenia i składki od nich naliczane | D28: 2115542 | E28: 2115542 | F28: 2172769 | G28: 29794 | H28: 0 | I28: 2182031 | J28: 2182031
C29: Świadczenia na rzecz osób fizycznych | D29: 73804 | E29: 73804 | F29: 73804 | G29: 0 | H29: 0 | I29: 85588 | J29: 85588
C30: Wydatki związane z realizacją zadań statutowych | D30: 213167.82 | E30: 213167.82 | F30: 184505 | G30: 0 | H30: 0 | I30: 260662.8 | J30: 212731
C31: Wydział Gospodarki Nieruchomościami | D31: 0 | E31: =E32 -> 0 | F31: =F32 -> 0 | G31: =G32 -> 0 | H31: =H32 -> 0 | I31: =I32 -> 0 | J31: =J32 -> 0
C32: Wydatki związane z realizacją zadań statutowych | D32: 0 | E32: 0 | F32: 0 | G32: 0 | H32: 0 | I32: 0 | J32: 0
C33: Wydział Dróg Powiatowych i Inwestycji | D33: 4000000 | E33: =E34+E38+E39 -> 3906411.6 | F33: =F34+F38+F39 -> 3433341 | G33: =G34+G38+G39 -> 0 | H33: =H34+H38+H39 -> 0 | I33: =I34+I38+I39 -> 4194035 | J33: =J34+J38+J39 -> 4000000
C34: Dotacje na zadania bieżące z tego: | D34: 110035 | E34: =E35+E36+E37 -> 110035 | F34: =F35+F36+F37 -> 110035 | G34: =G35+G36+G37 -> 0 | H34: =H35+H36+H37 -> 0 | I34: =I35+I36+I37 -> 110035 | J34: =J35+J36+J37 -> 110035
C35: Gmina Goleniów | D35: 84753 | E35: =D35 -> 84753 | F35: 84753 | G35: 0 | H35: 0 | I35: 84753 | J35: 84753
C36: Gmina Nowogard | D36: 25282 | E36: 25282 | F36: 25282 | G36: 0 | H36: 0 | I36: 25282 | J36: 25282
C37: Gmina Maszewo | D37: 0 | E37: 0 | F37: 0 | G37: 0 | H37: 0 | I37: 0 | J37: 0
C38: Wynagrodzenia i składki od nich naliczane | D38: 5000 | E38: 5000 | F38: 5000 | G38: 0 | H38: 0 | I38: 5000 | J38: 5000
C39: Wydatki związane z realizacją zadań statutowych | D39: 3884965 | E39: =4014554.38-E30-E26 -> 3791376.6 | F39: =675000+1038306+1605000 -> 3318306 | G39: 0 | H39: 0 | I39: =675000+1650000+1754000 -> 4079000 | J39: 3884965
B40: 60017 | C40: Drogi wewnętrzne | D40: 0 | E40: =E41 -> 22140 | F40: =F41 -> 0 | G40: =G41 -> 0 | H40: =H41 -> 0 | I40: =I41 -> 0 | J40: =J41 -> 0
C41: Wydział Dróg Powiatowych i Inwestycji | D41: 0 | E41: =E42 -> 22140 | F41: =F42 -> 0 | G41: =G42 -> 0 | H41: =H42 -> 0 | I41: =I42 -> 0 | J41: =J42 -> 0
C42: Wydatki związane z realizacją zadań statutowych | D42: 0 | E42: 22140 | F42: 0 | G42: 0 | H42: 0 | I42: 0 | J42: 0
B43: 60020 | C43: Funkcjonowanie przystanków komunikacyjnych | D43: 4000 | E43: =E44 -> 4000 | F43: =F44 -> 4000 | G43: =G44 -> 0 | H43: =H44 -> 0 | I43: =I44 -> 4000 | J43: =J44 -> 4000
C44: Wydział Dróg Powiatowych i Inwestycji | D44: 4000 | E44: =E45 -> 4000 | F44: =F45 -> 4000 | G44: =G45 -> 0 | H44: =H45 -> 0 | I44: =I45 -> 4000 | J44: =J45 -> 4000
...

Sheet wydatki zlecone 
A1: PROGNOZA W BUDŻECIE POWIATU GOLENIOWSKIEGO NA FINANSOWANIE ZADAŃ ZLECONYCH W 2026 R. | I1: Załącznik Nr 3
I2: do objaśnień do projektu budżetu
I3: na 2025 r.
A7: Dział | B7: Rozdział | C7: paragraf | D7: Wyszczególnienie | E7: Budżet w 2025 r. | H7: Projekt budżetu na 2026 r.
E8: wg uchwały budżetowej na 01.01 | F8: plan po zmianach | G8: Przewidyw. wykonanie | H8: wg.przyznanej dotacji przez Wojewodę Zachodniopomorskiego | I8: wg.zgłosz. potrzeb | J8: Wariant Zarządu Powiatu
E10: w złotych
A11: 1 | B11: 2 | C11: 3 | D11: 4 | E11: 5 | F11: 6 | G11: 7 | H11: 8 | I11: 9 | J11: 10
A12: 700 | D12: GOSPODARKA MIESZKANIOWA | E12: =E13 -> 150264 | F12: =F13 -> 284991 | G12: =G13 -> 774026.57 | H12: =H13 -> 229303 | I12: =I13 -> 229303 | J12: =H12 -> 229303
B13: 70005 | D13: Gospodarka gruntami i nieruchomościami | E13: =E14+E16 -> 150264 | F13: =F14+F16 -> 284991 | G13: =G14+G16 -> 774026.57 | H13: =H14+H16 -> 229303 | I13: =I14+I16 -> 229303 | J13: =H13 -> 229303
D14: Wydział Administracji i Bezpieczeństwa | E14: =E15 -> 128264 | F14: =F15 -> 162678 | G14: =G15 -> 774026.57 | H14: =H15 -> 172303 | I14: =I15 -> 172303 | J14: =H14 -> 172303
D15: Wynagrodzenia i składki od nich naliczane | E15: 128264 | F15: ='[3]Wykonanie 8 2025'!I286 -> 162678 | G15: =652111.9+112164.67+9750 -> 774026.57 | H15: =I15 -> 172303 | I15: =168814+3489 -> 172303 | J15: =H15 -> 172303
D16: Wydział Gospodarki Nieruchomościami | E16: =E18 -> 22000 | F16: =F17+F18 -> 122313 | G16: =G17+G18 -> 0 | H16: =H17+H18 -> 57000 | I16: =I17+I18 -> 57000 | J16: =H16 -> 57000
D17: Wynagrodzenia i składki od nich naliczane | E17: 0 | F17: 0 | G17: 0 | H17: =I17 -> 0 | I17: 0 | J17: =H17 -> 0
D18: Wydatki związane z realizacją zadań statutowych | E18: 22000 | F18: ='[3]Wykonanie 8 2025'!I292+'[3]Wykonanie 8 2025'!I298+'[3]Wykonanie 8 2025'!I300+'[3]Wykonanie 8 2025'!I301+'[3]Wykonanie 8 2025'!I304+'[3]Wykonanie 8 2025'!I306+'[3]Wykonanie 8 2025'!I313 -> 122313 | H18: =I18 -> 57000 | I18: 57000 | J18: =H18 -> 57000
D19: wydatki inwestycyjne | E19: 0 | F19: 0 | G19: 0 | H19: =I19 -> 0 | I19: 0 | J19: =H19 -> 0
A20: 710 | D20: DZIAŁALNOŚĆ USŁUGOWA | E20: =E21+E35+E41+E32 -> 1088000 | F20: =F21+F35+F41 -> 1392500 | G20: =G21+G35+G41 -> 1046472 | H20: =H21+H32+H35+H41 -> 1122600 | I20: =I21+I32+I35+I41 -> 1189351 | J20: =H20 -> 1122600
B21: 71012 | D21: Zadania z zakresu geodezji i kartografii | E21: =E22+E26+E29 -> 432000 | F21: =F22+F26+F29 -> 557500 | G21: =G22+G26+G29 -> 211472 | H21: =H22+H26+H29 -> 163000 | I21: =I22+I26+I29 -> 211473 | J21: =H21 -> 163000
D22: Wydział Administracji i Bezpieczeństwa | E22: =E23+E24+E25 -> 129000 | F22: =F23+F24+F25 -> 211472 | G22: =G23+G24+G25 -> 211472 | H22: =H23+H24+H25 -> 163000 | I22: =I23+I24+I25 -> 211473 | J22: =H22 -> 163000
D23: Wynagrodzenia i składki od nich naliczane | E23: 129000 | F23: ='[3]Wykonanie 8 2025'!I338 -> 211472 | G23: =F23 -> 211472 | H23: 163000 | I23: 211473 | J23: =H23 -> 163000
D24: Świadczenia na rzecz osób fizycznych | E24: 0 | F24: 0 | G24: =F24 -> 0 | H24: 0 | J24: =H24 -> 0
D25: Wydatki związane z realizacją zadań statutowych | E25: 0 | F25: 0 | G25: =F25 -> 0 | H25: 0 | J25: =H25 -> 0
D26: Wydział Geodezji , Kartografii i Kastratu | E26: =E27+E28 -> 303000 | F26: =F27+F28 -> 346028 | G26: =G27+G28 -> 0 | H26: =H27+H28 -> 0 | I26: =I27+I28 -> 0 | J26: =H26 -> 0
D27: Wydatki związane z realizacją zadań statutowych | E27: 303000 | F27: ='[3]Wykonanie 8 2025'!I346 -> 346028 | J27: =H27 -> 0
D28: wydatki inwestycyjne | E28: 0 | F28: 0 | G28: 0 | H28: 0 | I28: 0 | J28: =H28 -> 0
D29: Projekt geodezyjny | E29: =E30+E31 -> 0 | F29: =F30+F31 -> 0 | G29: =G30+G31 -> 0 | H29: =H30+H31 -> 0 | I29: =I30+I31 -> 0 | J29: =H29 -> 0
D30: Wydatki związane z realizacją zadań statutowych | E30: 0 | F30: 0 | G30: 0 | H30: 0 | I30: 0 | J30: =H30 -> 0
D31: wydatki inwestycyjne | E31: 0 | F31: 0 | G31: 0 | H31: 0 | I31: 0 | J31: =H31 -> 0
B32: 71013 | E32: =E33 -> 0 | F32: =F33 -> 0 | G32: =G33 -> 0 | H32: =H33 -> 60000 | I32: =I33 -> 0 | J32: =H32 -> 60000
D33: Wydział Geodezji , Kartografii i Kastratu | E33: =E34 -> 0 | F33: =F34 -> 0 | G33: =G34 -> 0 | H33: =H34 -> 60000 | I33: =I34 -> 0 | J33: =H33 -> 60000
D34: Wydatki związane z realizacją zadań statutowych | E34: 0 | F34: 0 | G34: 0 | H34: 60000 | I34: 0 | J34: =H34 -> 60000
B35: 71015 | D35: Nadzór budowlany | E35: =E36 -> 656000 | F35: =F36 -> 835000 | G35: =G36 -> 835000 | H35: =H36 -> 899600 | I35: =I36 -> 977878 | J35: =H35 -> 899600
D36: Powiatowy Inspektorat Nadzoru Budowlanego w Goleniowie | E36: =SUM(E37:E40) -> 656000 | F36: =SUM(F37:F40) -> 835000 | G36: =SUM(G37:G40) -> 835000 | H36: =H37+H38+H39+H40 -> 899600 | I36: =SUM(I37:I40) -> 977878 | J36: =H36 -> 899600
D37: Wynagrodzenia i składki od nich naliczane | E37: 554866 | F37: ='[3]Wykonanie 8 2025'!I354+'[3]Wykonanie 8 2025'!I355+'[3]Wykonanie 8 2025'!I356+'[3]Wykonanie 8 2025'!I357+'[3]Wykonanie 8 2025'!I358+'[3]Wykonanie 8 2025'!I359 -> 691845 | G37: =F37 -> 691845 | H37: =380000+220000+48000+109885+9300+5600 -> 772785 | I37: =386000+202000+48000+115000+13000+15000 -> 779000 | J37: =H37 -> 772785
D38: świadczenia na rzecz osób fizycznych | E38: 600 | F38: ='[3]Wykonanie 8 2025'!I353 -> 800 | G38: =F38 -> 800 | H38: 800 | I38: 800 | J38: =H38 -> 800
D39: Wydatki związane z realizacją zadań statutowych | E39: 100534 | F39: ='[3]Wykonanie 8 2025'!I360+'[3]Wykonanie 8 2025'!I361+'[3]Wykonanie 8 2025'!I362+'[3]Wykonanie 8 2025'!I363+'[3]Wykonanie 8 2025'!I364+'[3]Wykonanie 8 2025'!I365+'[3]Wykonanie 8 2025'!I366+'[3]Wykonanie 8 2025'!I367+'[3]Wykonanie 8 2025'!I368+'[3]Wykonanie 8 2025'!I369 -> 142355 | G39: =F39 -> 142355 | H39: =849600-H37-H38 -> 76015 | I39: =25000+20000+30000+800+97122+4000+2000+18156+500+500 -> 198078 | J39: =H39 -> 76015
D40: wydatki inwestycyjne | E40: 0 | F40: 0 | G40: 0 | H40: 50000 | I40: 0 | J40: =H40 -> 50000
B41: 71095 | D41: Pozostała działalnośc | E41: =E42 -> 0 | F41: =F42 -> 0 | H41: =H42 -> 0 | I41: =I42 -> 0 | J41: =H41 -> 0
D42: BUDOWA REGIONALNEJ INFRASTRUKTURY INFORMACJI PRZESTRZENNEJ WOJEWÓDZTWA ZACHODNIOPOMORSKIEGO | E42: =E43 -> 0 | F42: =F43 -> 0 | J42: =H42 -> 0
D43: Wydatki na programy finansowane z udziałem środków europejskich | E43: 0 | F43: 0 | G43: 0 | H43: 0 | I43: 0 | J43: =H43 -> 0
A44: 750 | D44: ADMINISTRACJA PUBLICZNA | E44: =E45 -> 79222 | F44: =F45 -> 102900 | G44: =G45 -> 102900 | H44: =H45 -> 105660 | I44: =I45 -> 102900 | J44: =H44 -> 105660
...

Sheet wydatki pow
A1: PROGNOZA W BUDŻECIE POWIATU GOLENIOWSKIEGO NA FINANSOWANIE ZADAŃ POWIERZONYCH PRZEZ ADMINISTRACJĘ RZĄDOWĄ I POWIERZONYCH PRZEZ JEDNOSTKI SAMORZĄDU TERYTORIALNEGO W 2026 ROK | I1: Załącznik Nr 4
I2: do objaśnień do projektu budżetu
I3: na 2026 r.
A7: Dział | B7: Rozdział | C7: paragraf | D7: Wyszczególnienie | E7: Budżet w 2025 r. | H7: Projekt budżetu na 2026 r.
E8: wg uchwały budżetowej na 01.01 | F8: plan po zmianach | G8: Przewidyw. wykonanie | H8: wg.przyznanej dotacji | I8: wg.zgłosz. potrzeb | J8: Wariant Zarządu Powiatu
E10: w złotych
A11: 1 | B11: 2 | C11: 3 | D11: 4 | E11: 5 | F11: 6 | G11: 7 | H11: 8 | I11: 9 | J11: 10
A12: 801 | D12: Oświata i Wychowanie | E12: =E13 -> 308484 | F12: =F13 -> 308484 | G12: =G13 -> 308484 | H12: =H13 -> 0 | I12: =I13 -> 342760 | J12: =J13 -> 342760
B13: 80195 | D13: Pozostała działalność | E13: =E14+E17 -> 308484 | F13: =F14+F17 -> 308484 | G13: =G14+G17 -> 308484 | H13: =H14+H17 -> 0 | I13: =I14+I17 -> 342760 | J13: =J14+J17 -> 342760
D14: PORADNIA PSYCHOLOGICZNO-PEDAGOGICZNA W GOLENIOWIE | E14: =E15+E16 -> 308484 | F14: =F15+F16 -> 308484 | G14: =G15+G16 -> 308484 | H14: =H15+H16 -> 0 | I14: =I15+I16 -> 342760 | J14: =J15+J16 -> 342760
D15: Wynagrodzenia i składki od nich naliczane | E15: 191743 | F15: =E15 -> 191743 | G15: =F15 -> 191743 | I15: =23000+22761+2739+84660 -> 133160 | J15: =I15 -> 133160
D16: Wydatki związane z realizacją zadań statutowych | E16: 116741 | F16: =E16 -> 116741 | G16: =F16 -> 116741 | I16: 209600 | J16: =I16 -> 209600
D17: Realizcja programu pn. „Poznaj Polskę”, | E17: =E18 -> 0 | F17: =F18 -> 0 | G17: =G18 -> 0 | H17: =H18 -> 0 | I17: =I18 -> 0 | J17: =J18 -> 0
D18: Wydatki związane z realizacją zadań statutowych | E18: 0 | G18: 0 | H18: 0 | I18: 0 | J18: 0
A19: 853 | D19: Pozostałe zadania w zakresie polityki społecznej | E19: =E20 -> 2678 | F19: =F20 -> 2678 | G19: =G20 -> 2678 | H19: =H20 -> 0 | I19: =I20 -> 7821.34 | J19: =J20 -> 7821.34
B20: 85311 | D20: Rehabilitacja zawodowa i społeczna osób niepełnosprawnych | E20: =E21 -> 2678 | F20: =F21 -> 2678 | G20: =G21 -> 2678 | H20: =H21 -> 0 | I20: =I21 -> 7821.34 | J20: =J21 -> 7821.34
D21: Wydział Finansowy - Jednostka | E21: =E22 -> 2678 | F21: =F22 -> 2678 | G21: =G22 -> 2678 | H21: =H22 -> 0 | I21: =I22 -> 7821.34 | J21: =J22 -> 7821.34
D22: dotacje | E22: 2678 | F22: =E22 -> 2678 | G22: =F22 -> 2678 | I22: 7821.34 | J22: =I22 -> 7821.34
A23: OGÓŁEM | E23: =E12+E19 -> 311162 | F23: =F12+F19 -> 311162 | G23: =G12+G19 -> 311162 | H23: =H12+H19 -> 0 | I23: =I12+I19 -> 350581.34 | J23: =J12+J19 -> 350581.34

Sheet wyd. inw
F1: Załącznik Nr 5
F2: do objaśnień do projektu budżetu
F3: na 2025 r.
A6: PROGNOZA W BUDŻECIE POWIATU GOLENIOWSKIEGO NA FINANSOWANIE WYBRANYCH PRZEZ ZARZĄD POWIATU ZADAŃ INWESTYCYJNYCH WŁASNYCH W 2026 R.
A8: Dział | B8: Rozdział | C8: zadania inwestycyjne na 2026 r. | D8: Jednostka organizacyjna | E8: Wariant wynikający ze złożonych wniosków na 2026 r. | F8: Wariant możliwy do realizacji na 2026 r.
E11: w złotych | F11: w złotych
A12: 1 | B12: 2 | C12: 3 | E12: 5 | F12: 6
A13: 600 | B13: 60014 | C13: Przebudowa odcinka drogi powiatowej nr 4128Z Śmięć-Stepniczka wraz z aktualizacją dokumentacji technicznej | D13: WDI | F13: 520000
A14: 600 | B14: 60014 | C14: Opracowanie dokumentacji technicznej na przebudowę odcinka drogi powiatowej w miejscowości Kartlewo | D14: WDI | F14: 40000
A15: 600 | B15: 60014 | C15: Opracowanie dokumentacji technicznej na przebudowę odcinka drogi powiatowej w miejscowości Kartlewo | D15: WDI | F15: 40000
A16: 600 | B16: 60014 | C16: "Budowa ciągu pieszo rowerowego w ciągu drogi powiatowej nr 4305Z w miejscowości Kulice" | D16: WDI | F16: 4269269
A17: 600 | B17: 60014 | C17: Budowa chodnika wzdłuż drogi powiatowej nr 4162Z Maszewo | D17: WDI | F17: 200000
A18: 750 | B18: 75020 | C18: Cyberbezpieczny Samorząd | D18: Starostwo Powiatowe w Goleniowie | E18: 315799.99 | F18: 315799.99
A19: 710 | B19: 71095 | C19: BUDOWA REGIONALNEJ INFRASTRUKTURY INFORMACJI PRZESTRZENNEJ WOJEWÓDZTWA ZACHODNIOPOMORSKIEGO | D19: WA | F19: 269370
A20: 758 | B20: 75818 | C20: Rezerwa inwestycyjna | D20: WF | F20: 3000000
A21: 801 | B21: 80102 | C21: Opracowanie dokumentacji technicznej w Zespole Szkół Specjalnych w Goleniowie na wykonanie termomodernizacji zgodnie z audytem | D21: WDI | F21: 150000
A22: 801 | B22: 80117 | C22: Opracowanie dokumentacji technicznej w Zespole Szkół nr 1 w Nowogardzie na wykonanie termomodernizacji zgodnie z audytem | D22: WDI | F22: 150000
A23: 801 | B23: 80120 | C23: Opracowanie dokumentacji technicznej w Zespole Szkół nr 1 w Nowogardzie na wykonanie termomodernizacji zgodnie z audytem | D23: WDI | F23: 150000
A24: 801 | B24: 80195 | C24: Nowe kwalifikacje - kompleksowy program wsparcia uczniów i nauczycieli szkół kształcących zawodowo na terenie IIT Powiatu Goleniowskiego | D24: ZS nr 1 w Nowogardzie | E24: 456350.54 | F24: 456350.54
A25: 851 | B25: 85111 | C25: Objęcie udziałów | F25: 666000
A26: 851 | B26: 85111 | C26: Zakup sprzętu | F26: 62411
A27: 852 | B27: 85202 | C27: Poprawa infrastruktury szpitalnej wraz z pierwszym wyposażeniem pod potrzeby nowo tworzonego Domu Pomocy Społecznej | F27: 116850
A28: 854 | B28: 85403 | C28: Opracowanie dokumentacji technicznej w SOSW w Nowogardzie na wykonanie termomodernizacji zgodnie z audytem | F28: 150000
A29: 926 | B29: 92601 | C29: Sportowa Polska | D29: Starostwo Powiatowe w Goleniowie | E29: 3810824.7 | F29: 5716237.1
A30: 926 | B30: 92601 | C30: Rozwój Infrastruktury Sportowej | D30: Starostwo Powiatowe w Goleniowie | E30: 595564 | F30: 595564
F31: =SUM(F13:F30) -> 16867852

Sheet Wykonanie 8 2025
A1: Dział | B1: Rozdział | C1: Paragraf | D1: Zadanie | E1: Dochód / Wydatek | F1: Kod dysponenta | G1: Rodzaj zadania | H1: Plan dochodu | I1: Plan wydatku | J1: Wykonanie dochodu | K1: Wykonanie wydatku | L1: Opis dysponenta
A2: 600 | B2: 60014 | C2: 062000 | D2: N | E2: D | F2: 76 | G2: W | H2: 1550000 | I2: 0 | J2: 1574129.2 | K2: 0 | L2: WYDZIAŁ DRÓG POWIATOWYCH I INWESTYCJI
A3: 600 | B3: 60014 | C3: 064000 | D3: T | E3: D | F3: 02 | G3: W | H3: 0 | I3: 0 | J3: 224 | K3: 0 | L3: WYDZ.FINANSOWY-JEDNOSTKA
A4: 600 | B4: 60014 | C4: 075000 | D4: T | E4: D | F4: 05 | G4: W | H4: 0 | I4: 0 | J4: 1659.72 | K4: 0 | L4: WYDZIAŁ GOSPODARKI NIERUCHOMOŚCIAMI
A5: 600 | B5: 60014 | C5: 075000 | D5: T | E5: D | F5: 03 | G5: W | H5: 0 | I5: 0 | J5: 11618.04 | K5: 0 | L5: WYDZIAŁ ADMINISTRACJI I BEZPIECZENSTWA
A6: 600 | B6: 60014 | C6: 087000 | D6: N | E6: D | F6: 76 | G6: W | H6: 0 | I6: 0 | J6: 4500.6 | K6: 0 | L6: WYDZIAŁ DRÓG POWIATOWYCH I INWESTYCJI
A7: 600 | B7: 60014 | C7: 092000 | D7: T | E7: D | F7: 02 | G7: W | H7: 0 | I7: 0 | J7: 1837.07 | K7: 0 | L7: WYDZ.FINANSOWY-JEDNOSTKA
A8: 600 | B8: 60014 | C8: 095000 | D8: N | E8: D | F8: 76 | G8: W | H8: 0 | I8: 0 | J8: 0 | K8: 0 | L8: WYDZIAŁ DRÓG POWIATOWYCH I INWESTYCJI
A9: 600 | B9: 60014 | C9: 629000 | D9: N | E9: D | F9: 86 | G9: W | H9: 3528446.3 | I9: 0 | J9: 852471.55 | K9: 0 | L9: PRZEBUDOWA ULICY BOLESŁAWA CHROBREGO W PRZYBIERNOWIE (DP 4117Z) - ETAP I
A10: 600 | B10: 60014 | C10: 630000 | D10: N | E10: D | F10: 86 | G10: W | H10: 1764223.1 | I10: 0 | J10: 0 | K10: 0 | L10: PRZEBUDOWA ULICY BOLESŁAWA CHROBREGO W PRZYBIERNOWIE (DP 4117Z) - ETAP I
A11: 600 | B11: 60014 | C11: 630000 | D11: N | E11: D | F11: 01 | G11: W | H11: 46494 | I11: 0 | J11: 0 | K11: 0 | L11: ORGAN
A12: 600 | B12: 60020 | C12: 049000 | D12: N | E12: D | F12: 76 | G12: W | H12: 4000 | I12: 0 | J12: 3355.3 | K12: 0 | L12: WYDZIAŁ DRÓG POWIATOWYCH I INWESTYCJI
A13: 700 | B13: 70005 | C13: 047000 | D13: N | E13: D | F13: 05 | G13: W | H13: 1450 | I13: 0 | J13: 1673.19 | K13: 0 | L13: WYDZIAŁ GOSPODARKI NIERUCHOMOŚCIAMI
... A1370: 926 | B1370: 92695 | C1370: 430000 | D1370: N | E1370: W | F1370: 40 | G1370: W | H1370: 0 | I1370: 16000 | J1370: 0 | K1370: 15763.6 | L1370: WYDZIAŁ OŚWIATY,KULTURY I SPORTU
H1371: 1.8546931e+08 | I1371: 1.9558985e+08 | J1371: 1.3323048e+08 | K1371: 1.1435917e+08
I1372: =I521+I522+I523+I524+I525+I526+I527+I528+I529+I530 -> 208095.71
H1373: =SUBTOTAL(9,H2:H1372) -> 818169 | I1373: =SUBTOTAL(9,I2:I1372) -> 1154499.5 | J1373: =SUBTOTAL(9,J2:J1372) -> 0 | K1373: =SUBTOTAL(9,K2:K1372) -> 271582.64
J1381: =15696737-16828299 -> -1131562
